BEGIN:VCALENDAR
VERSION:2.0
PRODID:-//City of Magee - ECPv6.14.2//NONSGML v1.0//EN
CALSCALE:GREGORIAN
METHOD:PUBLISH
X-WR-CALNAME:City of Magee
X-ORIGINAL-URL:https://www.cityofmagee.ms.gov
X-WR-CALDESC:Events for City of Magee
REFRESH-INTERVAL;VALUE=DURATION:PT1H
X-Robots-Tag:noindex
X-PUBLISHED-TTL:PT1H
BEGIN:VTIMEZONE
TZID:UTC
BEGIN:STANDARD
TZOFFSETFROM:+0000
TZOFFSETTO:+0000
TZNAME:UTC
DTSTART:20250101T000000
END:STANDARD
END:VTIMEZONE
BEGIN:VEVENT
DTSTART;VALUE=DATE:20250324
DTEND;VALUE=DATE:20250329
DTSTAMP:20260419T132320
CREATED:20250324T204508Z
LAST-MODIFIED:20250324T204508Z
UID:10000723-1742774400-1743206399@www.cityofmagee.ms.gov
SUMMARY:Absentee Voting
DESCRIPTION:Absentee voting is available at City Hall Monday through Friday\, 8 AM to 5 PM this week.
URL:https://www.cityofmagee.ms.gov/event/absentee-voting/
LOCATION:City Hall\, 123 Main Avenue North\, Magee\, MS\, 39111\, United States
END:VEVENT
BEGIN:VEVENT
DTSTART;TZID=UTC:20250321T153000
DTEND;TZID=UTC:20250321T170000
DTSTAMP:20260419T132320
CREATED:20250219T195039Z
LAST-MODIFIED:20250219T195039Z
UID:10000718-1742571000-1742576400@www.cityofmagee.ms.gov
SUMMARY:Magee Tennis
DESCRIPTION:vs McLaurin
URL:https://www.cityofmagee.ms.gov/event/magee-tennis-2/
LOCATION:Magee Tennis Courts
END:VEVENT
BEGIN:VEVENT
DTSTART;TZID=UTC:20250320T150000
DTEND;TZID=UTC:20250320T170000
DTSTAMP:20260419T132320
CREATED:20250219T193432Z
LAST-MODIFIED:20250219T195157Z
UID:10000713-1742482800-1742490000@www.cityofmagee.ms.gov
SUMMARY:Simpson Academy Tennis
DESCRIPTION:vs Leake
URL:https://www.cityofmagee.ms.gov/event/simpson-academy-tennis-3/
LOCATION:Magee Tennis Courts
END:VEVENT
BEGIN:VEVENT
DTSTART;TZID=UTC:20250319T110000
DTEND;TZID=UTC:20250319T120000
DTSTAMP:20260419T132320
CREATED:20250318T175536Z
LAST-MODIFIED:20250318T175536Z
UID:10000722-1742382000-1742385600@www.cityofmagee.ms.gov
SUMMARY:Magee Preservation Commission
DESCRIPTION:The Magee Preservation Commission will hold its monthly meeting today at 11 AM at the Magee Community House. This is a public meeting\, and all are invited to attend.
URL:https://www.cityofmagee.ms.gov/event/magee-preservation-commission/
LOCATION:Magee Community House\, 1st Avenue NW\, Magee\, MS\, 39111\, United States
ORGANIZER;CN="Magee Preservation Commission":MAILTO:mageepreservationcommission@gmail.com
END:VEVENT
BEGIN:VEVENT
DTSTART;TZID=UTC:20250319T110000
DTEND;TZID=UTC:20250319T120000
DTSTAMP:20260419T132320
CREATED:20230901T192816Z
LAST-MODIFIED:20241122T210753Z
UID:10000083-1742382000-1742385600@www.cityofmagee.ms.gov
SUMMARY:Story Time at the library
DESCRIPTION:Reading to children helps with language development and teaches empathy and emotional awareness plus they get to sing songs and make some crafts!
URL:https://www.cityofmagee.ms.gov/event/story-time-at-the-library/2025-03-19/
LOCATION:Magee Library\, 120 First Street NW\, Magee\, MS\, 39111\, United States
END:VEVENT
BEGIN:VEVENT
DTSTART;TZID=UTC:20250318T180000
DTEND;TZID=UTC:20250318T180000
DTSTAMP:20260419T132320
CREATED:20230823T143558Z
LAST-MODIFIED:20230906T142415Z
UID:10000342-1742320800-1742320800@www.cityofmagee.ms.gov
SUMMARY:Board of Aldermen meeting
DESCRIPTION:
URL:https://www.cityofmagee.ms.gov/event/board-of-aldermen-meeting-2/2025-03-18/
LOCATION:City Hall\, 123 Main Avenue North\, Magee\, MS\, 39111\, United States
END:VEVENT
BEGIN:VEVENT
DTSTART;TZID=UTC:20250317T173000
DTEND;TZID=UTC:20250317T183000
DTSTAMP:20260419T132320
CREATED:20250317T185113Z
LAST-MODIFIED:20250317T185341Z
UID:10000720-1742232600-1742236200@www.cityofmagee.ms.gov
SUMMARY:Zoning Board Hearings and Monthly Meeting
DESCRIPTION:The City of Magee Zoning Board will meet on Monday\, March 17\, 2025\, at 5:30 PM at City Hall for a hearing for rezoning and amendments. The public is invited to attend this meeting.
URL:https://www.cityofmagee.ms.gov/event/zoning-board-hearings-and-monthly-meeting/
LOCATION:City Hall\, 123 Main Avenue North\, Magee\, MS\, 39111\, United States
END:VEVENT
BEGIN:VEVENT
DTSTART;TZID=UTC:20250312T110000
DTEND;TZID=UTC:20250312T120000
DTSTAMP:20260419T132320
CREATED:20230901T192816Z
LAST-MODIFIED:20241122T210753Z
UID:10000082-1741777200-1741780800@www.cityofmagee.ms.gov
SUMMARY:Story Time at the library
DESCRIPTION:Reading to children helps with language development and teaches empathy and emotional awareness plus they get to sing songs and make some crafts!
URL:https://www.cityofmagee.ms.gov/event/story-time-at-the-library/2025-03-12/
LOCATION:Magee Library\, 120 First Street NW\, Magee\, MS\, 39111\, United States
END:VEVENT
BEGIN:VEVENT
DTSTART;TZID=UTC:20250310T120000
DTEND;TZID=UTC:20250310T120000
DTSTAMP:20260419T132320
CREATED:20230906T144119Z
LAST-MODIFIED:20230906T144119Z
UID:10000402-1741608000-1741608000@www.cityofmagee.ms.gov
SUMMARY:Lions Club Meeting
DESCRIPTION:
URL:https://www.cityofmagee.ms.gov/event/lions-club-meeting-2/2025-03-10/
LOCATION:Berry’s Seafood and Catfish House\, 1616 US 49\, Magee\, MS\, 39111\, United States
END:VEVENT
BEGIN:VEVENT
DTSTART;TZID=UTC:20250305T110000
DTEND;TZID=UTC:20250305T120000
DTSTAMP:20260419T132320
CREATED:20230901T192816Z
LAST-MODIFIED:20241122T210753Z
UID:10000081-1741172400-1741176000@www.cityofmagee.ms.gov
SUMMARY:Story Time at the library
DESCRIPTION:Reading to children helps with language development and teaches empathy and emotional awareness plus they get to sing songs and make some crafts!
URL:https://www.cityofmagee.ms.gov/event/story-time-at-the-library/2025-03-05/
LOCATION:Magee Library\, 120 First Street NW\, Magee\, MS\, 39111\, United States
END:VEVENT
BEGIN:VEVENT
DTSTART;TZID=UTC:20250304T180000
DTEND;TZID=UTC:20250304T180000
DTSTAMP:20260419T132320
CREATED:20230823T142532Z
LAST-MODIFIED:20230906T142332Z
UID:10000282-1741111200-1741111200@www.cityofmagee.ms.gov
SUMMARY:Board of Aldermen meeting
DESCRIPTION:
URL:https://www.cityofmagee.ms.gov/event/board-of-aldermen-meeting/2025-03-04/
LOCATION:City Hall\, 123 Main Avenue North\, Magee\, MS\, 39111\, United States
END:VEVENT
BEGIN:VEVENT
DTSTART;TZID=UTC:20250303T160000
DTEND;TZID=UTC:20250303T170000
DTSTAMP:20260419T132320
CREATED:20250219T194916Z
LAST-MODIFIED:20250219T194941Z
UID:10000717-1741017600-1741021200@www.cityofmagee.ms.gov
SUMMARY:Magee Tennis
DESCRIPTION:vs Wesson
URL:https://www.cityofmagee.ms.gov/event/magee-tennis/
LOCATION:Magee Tennis Courts
END:VEVENT
BEGIN:VEVENT
DTSTART;TZID=UTC:20250303T120000
DTEND;TZID=UTC:20250303T120000
DTSTAMP:20260419T132320
CREATED:20230906T143828Z
LAST-MODIFIED:20230906T144229Z
UID:10000461-1741003200-1741003200@www.cityofmagee.ms.gov
SUMMARY:Lions Club Meeting
DESCRIPTION:
URL:https://www.cityofmagee.ms.gov/event/lions-club-meeting/2025-03-03/
LOCATION:Berry’s Seafood and Catfish House\, 1616 US 49\, Magee\, MS\, 39111\, United States
END:VEVENT
BEGIN:VEVENT
DTSTART;TZID=UTC:20250226T110000
DTEND;TZID=UTC:20250226T120000
DTSTAMP:20260419T132320
CREATED:20230901T192816Z
LAST-MODIFIED:20241122T210753Z
UID:10000080-1740567600-1740571200@www.cityofmagee.ms.gov
SUMMARY:Story Time at the library
DESCRIPTION:Reading to children helps with language development and teaches empathy and emotional awareness plus they get to sing songs and make some crafts!
URL:https://www.cityofmagee.ms.gov/event/story-time-at-the-library/2025-02-26/
LOCATION:Magee Library\, 120 First Street NW\, Magee\, MS\, 39111\, United States
END:VEVENT
BEGIN:VEVENT
DTSTART;TZID=UTC:20250225T163000
DTEND;TZID=UTC:20250225T173000
DTSTAMP:20260419T132320
CREATED:20250130T165844Z
LAST-MODIFIED:20250130T165844Z
UID:10000706-1740501000-1740504600@www.cityofmagee.ms.gov
SUMMARY:Airport Board Meeting
DESCRIPTION:The Airport Board will hold its monthly meeting at 4:30 PM at the airport. This meeting is open to the public.
URL:https://www.cityofmagee.ms.gov/event/airport-board-meeting-11/
LOCATION:Magee Airport
END:VEVENT
BEGIN:VEVENT
DTSTART;TZID=UTC:20250225T150000
DTEND;TZID=UTC:20250225T170000
DTSTAMP:20260419T132320
CREATED:20250219T193238Z
LAST-MODIFIED:20250219T193238Z
UID:10000712-1740495600-1740502800@www.cityofmagee.ms.gov
SUMMARY:Simpson Academy Tennis
DESCRIPTION:vs. Brookhaven Academy
URL:https://www.cityofmagee.ms.gov/event/simpson-academy-tennis-2/
LOCATION:Magee Tennis Courts
END:VEVENT
BEGIN:VEVENT
DTSTART;TZID=UTC:20250224T153000
DTEND;TZID=UTC:20250224T170000
DTSTAMP:20260419T132320
CREATED:20250219T193022Z
LAST-MODIFIED:20250219T193022Z
UID:10000711-1740411000-1740416400@www.cityofmagee.ms.gov
SUMMARY:Simpson Academy Tennis
DESCRIPTION:vs. Copiah Academy
URL:https://www.cityofmagee.ms.gov/event/simpson-academy-tennis/
LOCATION:Magee Tennis Courts
END:VEVENT
BEGIN:VEVENT
DTSTART;TZID=UTC:20250220T180000
DTEND;TZID=UTC:20250220T220000
DTSTAMP:20260419T132320
CREATED:20250130T172409Z
LAST-MODIFIED:20250130T172409Z
UID:10000707-1740074400-1740088800@www.cityofmagee.ms.gov
SUMMARY:Mardi Gras Parade and Block Party
DESCRIPTION:Main Street Magee is sponsoring a Mardi Gras parade and block party on Feb. 20\, 2025\, from 6 PM to 10 PM on Main Street. Come join the fun!
URL:https://www.cityofmagee.ms.gov/event/mardi-gras-parade-and-block-party/
LOCATION:Main Streeet\, 106 Main Avenue North\, Magee\, 39111\, United States
END:VEVENT
BEGIN:VEVENT
DTSTART;TZID=UTC:20250219T110000
DTEND;TZID=UTC:20250219T120000
DTSTAMP:20260419T132320
CREATED:20230901T192816Z
LAST-MODIFIED:20241122T210753Z
UID:10000079-1739962800-1739966400@www.cityofmagee.ms.gov
SUMMARY:Story Time at the library
DESCRIPTION:Reading to children helps with language development and teaches empathy and emotional awareness plus they get to sing songs and make some crafts!
URL:https://www.cityofmagee.ms.gov/event/story-time-at-the-library/2025-02-19/
LOCATION:Magee Library\, 120 First Street NW\, Magee\, MS\, 39111\, United States
END:VEVENT
BEGIN:VEVENT
DTSTART;TZID=UTC:20250218T180000
DTEND;TZID=UTC:20250218T180000
DTSTAMP:20260419T132320
CREATED:20230823T143558Z
LAST-MODIFIED:20230906T142415Z
UID:10000341-1739901600-1739901600@www.cityofmagee.ms.gov
SUMMARY:Board of Aldermen meeting
DESCRIPTION:
URL:https://www.cityofmagee.ms.gov/event/board-of-aldermen-meeting-2/2025-02-18/
LOCATION:City Hall\, 123 Main Avenue North\, Magee\, MS\, 39111\, United States
END:VEVENT
BEGIN:VEVENT
DTSTART;TZID=UTC:20250218T170000
DTEND;TZID=UTC:20250218T210000
DTSTAMP:20260419T132320
CREATED:20250130T173616Z
LAST-MODIFIED:20250130T173616Z
UID:10000708-1739898000-1739912400@www.cityofmagee.ms.gov
SUMMARY:Mardi Gras Crawl
DESCRIPTION:Main Street Magee will sponsor a Mardi Gras Crawl on February 18\, 2025\, from 5 PM to 9 PM. For more information\, contact Main Street Magee Director Tiffany Kinslow at 601-382-1179.
URL:https://www.cityofmagee.ms.gov/event/mardi-gras-crawl/
LOCATION:Main Streeet\, 106 Main Avenue North\, Magee\, 39111\, United States
END:VEVENT
BEGIN:VEVENT
DTSTART;VALUE=DATE:20250217
DTEND;VALUE=DATE:20250218
DTSTAMP:20260419T132321
CREATED:20250207T230954Z
LAST-MODIFIED:20250207T230954Z
UID:10000710-1739750400-1739836799@www.cityofmagee.ms.gov
SUMMARY:City Hall Closed
DESCRIPTION:City Hall will be closed for President’s Day. We will re-open tomorrow.
URL:https://www.cityofmagee.ms.gov/event/city-hall-closed-7/
LOCATION:City Hall\, 123 Main Avenue North\, Magee\, MS\, 39111\, United States
END:VEVENT
BEGIN:VEVENT
DTSTART;TZID=UTC:20250212T110000
DTEND;TZID=UTC:20250212T120000
DTSTAMP:20260419T132321
CREATED:20230901T192816Z
LAST-MODIFIED:20241122T210753Z
UID:10000078-1739358000-1739361600@www.cityofmagee.ms.gov
SUMMARY:Story Time at the library
DESCRIPTION:Reading to children helps with language development and teaches empathy and emotional awareness plus they get to sing songs and make some crafts!
URL:https://www.cityofmagee.ms.gov/event/story-time-at-the-library/2025-02-12/
LOCATION:Magee Library\, 120 First Street NW\, Magee\, MS\, 39111\, United States
END:VEVENT
BEGIN:VEVENT
DTSTART;TZID=UTC:20250211T173000
DTEND;TZID=UTC:20250211T183000
DTSTAMP:20260419T132321
CREATED:20250130T165717Z
LAST-MODIFIED:20250130T165717Z
UID:10000705-1739295000-1739298600@www.cityofmagee.ms.gov
SUMMARY:Zoning Board Meeting
DESCRIPTION:The City of Magee will hold its monthly meeting at 5:30 PM at City Hall. This meeting is open to the public.
URL:https://www.cityofmagee.ms.gov/event/zoning-board-meeting-7/
LOCATION:City Hall\, 123 Main Avenue North\, Magee\, MS\, 39111\, United States
END:VEVENT
BEGIN:VEVENT
DTSTART;TZID=UTC:20250210T120000
DTEND;TZID=UTC:20250210T120000
DTSTAMP:20260419T132321
CREATED:20230906T144119Z
LAST-MODIFIED:20230906T144119Z
UID:10000401-1739188800-1739188800@www.cityofmagee.ms.gov
SUMMARY:Lions Club Meeting
DESCRIPTION:
URL:https://www.cityofmagee.ms.gov/event/lions-club-meeting-2/2025-02-10/
LOCATION:Berry’s Seafood and Catfish House\, 1616 US 49\, Magee\, MS\, 39111\, United States
END:VEVENT
BEGIN:VEVENT
DTSTART;VALUE=DATE:20250209
DTEND;VALUE=DATE:20250216
DTSTAMP:20260419T132321
CREATED:20250207T213015Z
LAST-MODIFIED:20250207T213015Z
UID:10000709-1739059200-1739663999@www.cityofmagee.ms.gov
SUMMARY:Spring Severe Weather Preparedness Week
DESCRIPTION:Governor Reeves has proclaimed February 9-15 Spring Severe Weather Preparedness Week. Stay tuned for weather related information about how to prepare for severe weather!
URL:https://www.cityofmagee.ms.gov/event/spring-severe-weather-preparedness-week/
LOCATION:City Hall\, 123 Main Avenue North\, Magee\, MS\, 39111\, United States
END:VEVENT
BEGIN:VEVENT
DTSTART;TZID=UTC:20250205T110000
DTEND;TZID=UTC:20250205T120000
DTSTAMP:20260419T132321
CREATED:20230901T192816Z
LAST-MODIFIED:20241122T210753Z
UID:10000077-1738753200-1738756800@www.cityofmagee.ms.gov
SUMMARY:Story Time at the library
DESCRIPTION:Reading to children helps with language development and teaches empathy and emotional awareness plus they get to sing songs and make some crafts!
URL:https://www.cityofmagee.ms.gov/event/story-time-at-the-library/2025-02-05/
LOCATION:Magee Library\, 120 First Street NW\, Magee\, MS\, 39111\, United States
END:VEVENT
BEGIN:VEVENT
DTSTART;TZID=UTC:20250204T180000
DTEND;TZID=UTC:20250204T180000
DTSTAMP:20260419T132321
CREATED:20230823T142532Z
LAST-MODIFIED:20230906T142332Z
UID:10000281-1738692000-1738692000@www.cityofmagee.ms.gov
SUMMARY:Board of Aldermen meeting
DESCRIPTION:
URL:https://www.cityofmagee.ms.gov/event/board-of-aldermen-meeting/2025-02-04/
LOCATION:City Hall\, 123 Main Avenue North\, Magee\, MS\, 39111\, United States
END:VEVENT
BEGIN:VEVENT
DTSTART;TZID=UTC:20250203T120000
DTEND;TZID=UTC:20250203T120000
DTSTAMP:20260419T132321
CREATED:20230906T143828Z
LAST-MODIFIED:20230906T144229Z
UID:10000460-1738584000-1738584000@www.cityofmagee.ms.gov
SUMMARY:Lions Club Meeting
DESCRIPTION:
URL:https://www.cityofmagee.ms.gov/event/lions-club-meeting/2025-02-03/
LOCATION:Berry’s Seafood and Catfish House\, 1616 US 49\, Magee\, MS\, 39111\, United States
END:VEVENT
BEGIN:VEVENT
DTSTART;TZID=UTC:20250129T170000
DTEND;TZID=UTC:20250129T180000
DTSTAMP:20260419T132321
CREATED:20250128T230148Z
LAST-MODIFIED:20250128T230148Z
UID:10000704-1738170000-1738173600@www.cityofmagee.ms.gov
SUMMARY:Special Called Board of Aldermen Meeting
DESCRIPTION:The Board of Aldermen will hold a special meeting on Wednesday\, January 29\, 2025\, at 5 PM at City Hall. This is an open public meeting.
URL:https://www.cityofmagee.ms.gov/event/special-called-board-of-aldermen-meeting-2/
LOCATION:City Hall\, 123 Main Avenue North\, Magee\, MS\, 39111\, United States
END:VEVENT
END:VCALENDAR