BEGIN:VCALENDAR
VERSION:2.0
PRODID:-//City of Magee - ECPv6.14.2//NONSGML v1.0//EN
CALSCALE:GREGORIAN
METHOD:PUBLISH
X-WR-CALNAME:City of Magee
X-ORIGINAL-URL:https://www.cityofmagee.ms.gov
X-WR-CALDESC:Events for City of Magee
REFRESH-INTERVAL;VALUE=DURATION:PT1H
X-Robots-Tag:noindex
X-PUBLISHED-TTL:PT1H
BEGIN:VTIMEZONE
TZID:UTC
BEGIN:STANDARD
TZOFFSETFROM:+0000
TZOFFSETTO:+0000
TZNAME:UTC
DTSTART:20240101T000000
END:STANDARD
END:VTIMEZONE
BEGIN:VEVENT
DTSTART;TZID=UTC:20250218T170000
DTEND;TZID=UTC:20250218T210000
DTSTAMP:20260420T160731
CREATED:20250130T173616Z
LAST-MODIFIED:20250130T173616Z
UID:10000708-1739898000-1739912400@www.cityofmagee.ms.gov
SUMMARY:Mardi Gras Crawl
DESCRIPTION:Main Street Magee will sponsor a Mardi Gras Crawl on February 18\, 2025\, from 5 PM to 9 PM. For more information\, contact Main Street Magee Director Tiffany Kinslow at 601-382-1179.
URL:https://www.cityofmagee.ms.gov/event/mardi-gras-crawl/
LOCATION:Main Streeet\, 106 Main Avenue North\, Magee\, 39111\, United States
END:VEVENT
BEGIN:VEVENT
DTSTART;VALUE=DATE:20250217
DTEND;VALUE=DATE:20250218
DTSTAMP:20260420T160731
CREATED:20250207T230954Z
LAST-MODIFIED:20250207T230954Z
UID:10000710-1739750400-1739836799@www.cityofmagee.ms.gov
SUMMARY:City Hall Closed
DESCRIPTION:City Hall will be closed for President’s Day. We will re-open tomorrow.
URL:https://www.cityofmagee.ms.gov/event/city-hall-closed-7/
LOCATION:City Hall\, 123 Main Avenue North\, Magee\, MS\, 39111\, United States
END:VEVENT
BEGIN:VEVENT
DTSTART;TZID=UTC:20250212T110000
DTEND;TZID=UTC:20250212T120000
DTSTAMP:20260420T160731
CREATED:20230901T192816Z
LAST-MODIFIED:20241122T210753Z
UID:10000078-1739358000-1739361600@www.cityofmagee.ms.gov
SUMMARY:Story Time at the library
DESCRIPTION:Reading to children helps with language development and teaches empathy and emotional awareness plus they get to sing songs and make some crafts!
URL:https://www.cityofmagee.ms.gov/event/story-time-at-the-library/2025-02-12/
LOCATION:Magee Library\, 120 First Street NW\, Magee\, MS\, 39111\, United States
END:VEVENT
BEGIN:VEVENT
DTSTART;TZID=UTC:20250211T173000
DTEND;TZID=UTC:20250211T183000
DTSTAMP:20260420T160731
CREATED:20250130T165717Z
LAST-MODIFIED:20250130T165717Z
UID:10000705-1739295000-1739298600@www.cityofmagee.ms.gov
SUMMARY:Zoning Board Meeting
DESCRIPTION:The City of Magee will hold its monthly meeting at 5:30 PM at City Hall. This meeting is open to the public.
URL:https://www.cityofmagee.ms.gov/event/zoning-board-meeting-7/
LOCATION:City Hall\, 123 Main Avenue North\, Magee\, MS\, 39111\, United States
END:VEVENT
BEGIN:VEVENT
DTSTART;TZID=UTC:20250210T120000
DTEND;TZID=UTC:20250210T120000
DTSTAMP:20260420T160731
CREATED:20230906T144119Z
LAST-MODIFIED:20230906T144119Z
UID:10000401-1739188800-1739188800@www.cityofmagee.ms.gov
SUMMARY:Lions Club Meeting
DESCRIPTION:
URL:https://www.cityofmagee.ms.gov/event/lions-club-meeting-2/2025-02-10/
LOCATION:Berry’s Seafood and Catfish House\, 1616 US 49\, Magee\, MS\, 39111\, United States
END:VEVENT
BEGIN:VEVENT
DTSTART;VALUE=DATE:20250209
DTEND;VALUE=DATE:20250216
DTSTAMP:20260420T160731
CREATED:20250207T213015Z
LAST-MODIFIED:20250207T213015Z
UID:10000709-1739059200-1739663999@www.cityofmagee.ms.gov
SUMMARY:Spring Severe Weather Preparedness Week
DESCRIPTION:Governor Reeves has proclaimed February 9-15 Spring Severe Weather Preparedness Week. Stay tuned for weather related information about how to prepare for severe weather!
URL:https://www.cityofmagee.ms.gov/event/spring-severe-weather-preparedness-week/
LOCATION:City Hall\, 123 Main Avenue North\, Magee\, MS\, 39111\, United States
END:VEVENT
BEGIN:VEVENT
DTSTART;TZID=UTC:20250205T110000
DTEND;TZID=UTC:20250205T120000
DTSTAMP:20260420T160731
CREATED:20230901T192816Z
LAST-MODIFIED:20241122T210753Z
UID:10000077-1738753200-1738756800@www.cityofmagee.ms.gov
SUMMARY:Story Time at the library
DESCRIPTION:Reading to children helps with language development and teaches empathy and emotional awareness plus they get to sing songs and make some crafts!
URL:https://www.cityofmagee.ms.gov/event/story-time-at-the-library/2025-02-05/
LOCATION:Magee Library\, 120 First Street NW\, Magee\, MS\, 39111\, United States
END:VEVENT
BEGIN:VEVENT
DTSTART;TZID=UTC:20250204T180000
DTEND;TZID=UTC:20250204T180000
DTSTAMP:20260420T160731
CREATED:20230823T142532Z
LAST-MODIFIED:20230906T142332Z
UID:10000281-1738692000-1738692000@www.cityofmagee.ms.gov
SUMMARY:Board of Aldermen meeting
DESCRIPTION:
URL:https://www.cityofmagee.ms.gov/event/board-of-aldermen-meeting/2025-02-04/
LOCATION:City Hall\, 123 Main Avenue North\, Magee\, MS\, 39111\, United States
END:VEVENT
BEGIN:VEVENT
DTSTART;TZID=UTC:20250203T120000
DTEND;TZID=UTC:20250203T120000
DTSTAMP:20260420T160731
CREATED:20230906T143828Z
LAST-MODIFIED:20230906T144229Z
UID:10000460-1738584000-1738584000@www.cityofmagee.ms.gov
SUMMARY:Lions Club Meeting
DESCRIPTION:
URL:https://www.cityofmagee.ms.gov/event/lions-club-meeting/2025-02-03/
LOCATION:Berry’s Seafood and Catfish House\, 1616 US 49\, Magee\, MS\, 39111\, United States
END:VEVENT
BEGIN:VEVENT
DTSTART;TZID=UTC:20250129T170000
DTEND;TZID=UTC:20250129T180000
DTSTAMP:20260420T160731
CREATED:20250128T230148Z
LAST-MODIFIED:20250128T230148Z
UID:10000704-1738170000-1738173600@www.cityofmagee.ms.gov
SUMMARY:Special Called Board of Aldermen Meeting
DESCRIPTION:The Board of Aldermen will hold a special meeting on Wednesday\, January 29\, 2025\, at 5 PM at City Hall. This is an open public meeting.
URL:https://www.cityofmagee.ms.gov/event/special-called-board-of-aldermen-meeting-2/
LOCATION:City Hall\, 123 Main Avenue North\, Magee\, MS\, 39111\, United States
END:VEVENT
BEGIN:VEVENT
DTSTART;TZID=UTC:20250129T110000
DTEND;TZID=UTC:20250129T120000
DTSTAMP:20260420T160731
CREATED:20230901T192816Z
LAST-MODIFIED:20241122T210753Z
UID:10000076-1738148400-1738152000@www.cityofmagee.ms.gov
SUMMARY:Story Time at the library
DESCRIPTION:Reading to children helps with language development and teaches empathy and emotional awareness plus they get to sing songs and make some crafts!
URL:https://www.cityofmagee.ms.gov/event/story-time-at-the-library/2025-01-29/
LOCATION:Magee Library\, 120 First Street NW\, Magee\, MS\, 39111\, United States
END:VEVENT
BEGIN:VEVENT
DTSTART;TZID=UTC:20250128T180000
DTEND;TZID=UTC:20250128T190000
DTSTAMP:20260420T160731
CREATED:20250128T211617Z
LAST-MODIFIED:20250128T211642Z
UID:10000703-1738087200-1738090800@www.cityofmagee.ms.gov
SUMMARY:Special Called Zoning Board
DESCRIPTION:The City of Magee Zoning Board will meet Tuesday\, January 28\, 2025\, at 6 PM at City Hall. This is a public open meeting!
URL:https://www.cityofmagee.ms.gov/event/special-called-zoning-board/
LOCATION:City Hall\, 123 Main Avenue North\, Magee\, MS\, 39111\, United States
END:VEVENT
BEGIN:VEVENT
DTSTART;TZID=UTC:20250128T163000
DTEND;TZID=UTC:20250128T173000
DTSTAMP:20260420T160731
CREATED:20241223T184847Z
LAST-MODIFIED:20241223T184847Z
UID:10000700-1738081800-1738085400@www.cityofmagee.ms.gov
SUMMARY:Airport Board Meeting
DESCRIPTION:The Airport Board will hold its monthly meeting on 1/28/25 at 4:30 PM at the Airport. The public is welcome to attend.
URL:https://www.cityofmagee.ms.gov/event/airport-board-meeting-10/
LOCATION:Magee Airport
END:VEVENT
BEGIN:VEVENT
DTSTART;TZID=UTC:20250123T180000
DTEND;TZID=UTC:20250123T190000
DTSTAMP:20260420T160731
CREATED:20250110T191405Z
LAST-MODIFIED:20250110T193210Z
UID:10000701-1737655200-1737658800@www.cityofmagee.ms.gov
SUMMARY:Town Hall Meeting
DESCRIPTION:The City of Magee will hold a Town Hall Meeting January 23\, 2025\, at 6 PM to unveil the Property Maintenance Project of 2025. All residents and interesting parties are encouraged to attend this informational event.
URL:https://www.cityofmagee.ms.gov/event/town-hall-meeting-6/
LOCATION:City Hall\, 123 Main Avenue North\, Magee\, MS\, 39111\, United States
END:VEVENT
BEGIN:VEVENT
DTSTART;TZID=UTC:20250122T110000
DTEND;TZID=UTC:20250122T120000
DTSTAMP:20260420T160731
CREATED:20230901T192816Z
LAST-MODIFIED:20241122T210753Z
UID:10000075-1737543600-1737547200@www.cityofmagee.ms.gov
SUMMARY:Story Time at the library
DESCRIPTION:Reading to children helps with language development and teaches empathy and emotional awareness plus they get to sing songs and make some crafts!
URL:https://www.cityofmagee.ms.gov/event/story-time-at-the-library/2025-01-22/
LOCATION:Magee Library\, 120 First Street NW\, Magee\, MS\, 39111\, United States
END:VEVENT
BEGIN:VEVENT
DTSTART;TZID=UTC:20250121T180000
DTEND;TZID=UTC:20250121T180000
DTSTAMP:20260420T160731
CREATED:20230823T143558Z
LAST-MODIFIED:20230906T142415Z
UID:10000340-1737482400-1737482400@www.cityofmagee.ms.gov
SUMMARY:Board of Aldermen meeting
DESCRIPTION:
URL:https://www.cityofmagee.ms.gov/event/board-of-aldermen-meeting-2/2025-01-21/
LOCATION:City Hall\, 123 Main Avenue North\, Magee\, MS\, 39111\, United States
END:VEVENT
BEGIN:VEVENT
DTSTART;TZID=UTC:20250115T110000
DTEND;TZID=UTC:20250115T120000
DTSTAMP:20260420T160731
CREATED:20250110T191754Z
LAST-MODIFIED:20250110T191754Z
UID:10000702-1736938800-1736942400@www.cityofmagee.ms.gov
SUMMARY:Magee Preservation Commission Monthly Meeting
DESCRIPTION:The Magee Preservation Commission will hold its monthly meeting on January 15\, 2025\, at 11 AM at the Magee Community House. This meeting is open to the public.
URL:https://www.cityofmagee.ms.gov/event/magee-preservation-commission-monthly-meeting-3/
LOCATION:Magee Community House\, 1st Avenue NW\, Magee\, MS\, 39111\, United States
ORGANIZER;CN="Magee Preservation Commission":MAILTO:mageepreservationcommission@gmail.com
END:VEVENT
BEGIN:VEVENT
DTSTART;TZID=UTC:20250115T110000
DTEND;TZID=UTC:20250115T120000
DTSTAMP:20260420T160731
CREATED:20230901T192816Z
LAST-MODIFIED:20241122T210753Z
UID:10000074-1736938800-1736942400@www.cityofmagee.ms.gov
SUMMARY:Story Time at the library
DESCRIPTION:Reading to children helps with language development and teaches empathy and emotional awareness plus they get to sing songs and make some crafts!
URL:https://www.cityofmagee.ms.gov/event/story-time-at-the-library/2025-01-15/
LOCATION:Magee Library\, 120 First Street NW\, Magee\, MS\, 39111\, United States
END:VEVENT
BEGIN:VEVENT
DTSTART;TZID=UTC:20250114T173000
DTEND;TZID=UTC:20250114T190000
DTSTAMP:20260420T160731
CREATED:20241223T184500Z
LAST-MODIFIED:20250110T193602Z
UID:10000699-1736875800-1736881200@www.cityofmagee.ms.gov
SUMMARY:Zoning Board Hearings/Meeting
DESCRIPTION:The Zoning Board will hold its monthly meeting tonight at 5:30 PM at City Hall. The public is welcome and encouraged to attend Zoning Board Hearings/Meeting
URL:https://www.cityofmagee.ms.gov/event/zoning-board-hearings-meeting/
LOCATION:City Hall\, 123 Main Avenue North\, Magee\, MS\, 39111\, United States
END:VEVENT
BEGIN:VEVENT
DTSTART;TZID=UTC:20250113T120000
DTEND;TZID=UTC:20250113T120000
DTSTAMP:20260420T160731
CREATED:20230906T144119Z
LAST-MODIFIED:20230906T144119Z
UID:10000400-1736769600-1736769600@www.cityofmagee.ms.gov
SUMMARY:Lions Club Meeting
DESCRIPTION:
URL:https://www.cityofmagee.ms.gov/event/lions-club-meeting-2/2025-01-13/
LOCATION:Berry’s Seafood and Catfish House\, 1616 US 49\, Magee\, MS\, 39111\, United States
END:VEVENT
BEGIN:VEVENT
DTSTART;TZID=UTC:20250108T110000
DTEND;TZID=UTC:20250108T120000
DTSTAMP:20260420T160731
CREATED:20230901T192816Z
LAST-MODIFIED:20241122T210753Z
UID:10000073-1736334000-1736337600@www.cityofmagee.ms.gov
SUMMARY:Story Time at the library
DESCRIPTION:Reading to children helps with language development and teaches empathy and emotional awareness plus they get to sing songs and make some crafts!
URL:https://www.cityofmagee.ms.gov/event/story-time-at-the-library/2025-01-08/
LOCATION:Magee Library\, 120 First Street NW\, Magee\, MS\, 39111\, United States
END:VEVENT
BEGIN:VEVENT
DTSTART;TZID=UTC:20250107T180000
DTEND;TZID=UTC:20250107T180000
DTSTAMP:20260420T160731
CREATED:20230823T142532Z
LAST-MODIFIED:20230906T142332Z
UID:10000280-1736272800-1736272800@www.cityofmagee.ms.gov
SUMMARY:Board of Aldermen meeting
DESCRIPTION:
URL:https://www.cityofmagee.ms.gov/event/board-of-aldermen-meeting/2025-01-07/
LOCATION:City Hall\, 123 Main Avenue North\, Magee\, MS\, 39111\, United States
END:VEVENT
BEGIN:VEVENT
DTSTART;TZID=UTC:20250106T120000
DTEND;TZID=UTC:20250106T120000
DTSTAMP:20260420T160731
CREATED:20230906T143828Z
LAST-MODIFIED:20230906T144229Z
UID:10000459-1736164800-1736164800@www.cityofmagee.ms.gov
SUMMARY:Lions Club Meeting
DESCRIPTION:
URL:https://www.cityofmagee.ms.gov/event/lions-club-meeting/2025-01-06/
LOCATION:Berry’s Seafood and Catfish House\, 1616 US 49\, Magee\, MS\, 39111\, United States
END:VEVENT
BEGIN:VEVENT
DTSTART;TZID=UTC:20250101T080000
DTEND;TZID=UTC:20250101T170000
DTSTAMP:20260420T160731
CREATED:20241125T221333Z
LAST-MODIFIED:20241125T221333Z
UID:10000697-1735718400-1735750800@www.cityofmagee.ms.gov
SUMMARY:City Hall closed for New Year's
DESCRIPTION:City Hall will be closed on Wednesday\, January 1\, 2025\, for New Year’s Day! Happy New Year!
URL:https://www.cityofmagee.ms.gov/event/city-hall-closed-for-new-years/
LOCATION:City Hall\, 123 Main Avenue North\, Magee\, MS\, 39111\, United States
END:VEVENT
BEGIN:VEVENT
DTSTART;TZID=UTC:20241225T080000
DTEND;TZID=UTC:20241225T170000
DTSTAMP:20260420T160731
CREATED:20241125T220939Z
LAST-MODIFIED:20241125T221038Z
UID:10000696-1735113600-1735146000@www.cityofmagee.ms.gov
SUMMARY:City Hall closed for the holidays
DESCRIPTION:City Hall will be closed on December 24 and 25 for the Christmas Holiday. Merry Christmas!
URL:https://www.cityofmagee.ms.gov/event/city-hall-closed-for-the-holidays/2024-12-25/
LOCATION:City Hall\, 123 Main Avenue North\, Magee\, MS\, 39111\, United States
END:VEVENT
BEGIN:VEVENT
DTSTART;TZID=UTC:20241224T080000
DTEND;TZID=UTC:20241224T170000
DTSTAMP:20260420T160731
CREATED:20241125T220939Z
LAST-MODIFIED:20241125T221038Z
UID:10000695-1735027200-1735059600@www.cityofmagee.ms.gov
SUMMARY:City Hall closed for the holidays
DESCRIPTION:City Hall will be closed on December 24 and 25 for the Christmas Holiday. Merry Christmas!
URL:https://www.cityofmagee.ms.gov/event/city-hall-closed-for-the-holidays/2024-12-24/
LOCATION:City Hall\, 123 Main Avenue North\, Magee\, MS\, 39111\, United States
END:VEVENT
BEGIN:VEVENT
DTSTART;VALUE=DATE:20241224
DTEND;VALUE=DATE:20241226
DTSTAMP:20260420T160731
CREATED:20241223T165419Z
LAST-MODIFIED:20241223T165419Z
UID:10000698-1734998400-1735171199@www.cityofmagee.ms.gov
SUMMARY:No Garbage Pickup
DESCRIPTION:No garbage pickup today or tomorrow or on New Year’s Day!
URL:https://www.cityofmagee.ms.gov/event/no-garbage-pickup-3/
LOCATION:City Hall\, 123 Main Avenue North\, Magee\, MS\, 39111\, United States
END:VEVENT
BEGIN:VEVENT
DTSTART;TZID=UTC:20241218T110000
DTEND;TZID=UTC:20241218T120000
DTSTAMP:20260420T160731
CREATED:20230901T192816Z
LAST-MODIFIED:20241122T210753Z
UID:10000070-1734519600-1734523200@www.cityofmagee.ms.gov
SUMMARY:Story Time at the library
DESCRIPTION:Reading to children helps with language development and teaches empathy and emotional awareness plus they get to sing songs and make some crafts!
URL:https://www.cityofmagee.ms.gov/event/story-time-at-the-library/2024-12-18/
LOCATION:Magee Library\, 120 First Street NW\, Magee\, MS\, 39111\, United States
END:VEVENT
BEGIN:VEVENT
DTSTART;TZID=UTC:20241217T180000
DTEND;TZID=UTC:20241217T180000
DTSTAMP:20260420T160731
CREATED:20230823T143558Z
LAST-MODIFIED:20230906T142415Z
UID:10000339-1734458400-1734458400@www.cityofmagee.ms.gov
SUMMARY:Board of Aldermen meeting
DESCRIPTION:
URL:https://www.cityofmagee.ms.gov/event/board-of-aldermen-meeting-2/2024-12-17/
LOCATION:City Hall\, 123 Main Avenue North\, Magee\, MS\, 39111\, United States
END:VEVENT
BEGIN:VEVENT
DTSTART;TZID=UTC:20241211T110000
DTEND;TZID=UTC:20241211T120000
DTSTAMP:20260420T160731
CREATED:20230901T192816Z
LAST-MODIFIED:20241122T210753Z
UID:10000069-1733914800-1733918400@www.cityofmagee.ms.gov
SUMMARY:Story Time at the library
DESCRIPTION:Reading to children helps with language development and teaches empathy and emotional awareness plus they get to sing songs and make some crafts!
URL:https://www.cityofmagee.ms.gov/event/story-time-at-the-library/2024-12-11/
LOCATION:Magee Library\, 120 First Street NW\, Magee\, MS\, 39111\, United States
END:VEVENT
END:VCALENDAR