BEGIN:VCALENDAR
VERSION:2.0
PRODID:-//City of Magee - ECPv6.14.2//NONSGML v1.0//EN
CALSCALE:GREGORIAN
METHOD:PUBLISH
X-WR-CALNAME:City of Magee
X-ORIGINAL-URL:https://www.cityofmagee.ms.gov
X-WR-CALDESC:Events for City of Magee
REFRESH-INTERVAL;VALUE=DURATION:PT1H
X-Robots-Tag:noindex
X-PUBLISHED-TTL:PT1H
BEGIN:VTIMEZONE
TZID:UTC
BEGIN:STANDARD
TZOFFSETFROM:+0000
TZOFFSETTO:+0000
TZNAME:UTC
DTSTART:20270101T000000
END:STANDARD
END:VTIMEZONE
BEGIN:VEVENT
DTSTART;TZID=UTC:20271215T110000
DTEND;TZID=UTC:20271215T120000
DTSTAMP:20260419T144437
CREATED:20230901T192816Z
LAST-MODIFIED:20241122T210753Z
UID:10000226-1828868400-1828872000@www.cityofmagee.ms.gov
SUMMARY:Story Time at the library
DESCRIPTION:Reading to children helps with language development and teaches empathy and emotional awareness plus they get to sing songs and make some crafts!
URL:https://www.cityofmagee.ms.gov/event/story-time-at-the-library/2027-12-15/
LOCATION:Magee Library\, 120 First Street NW\, Magee\, MS\, 39111\, United States
END:VEVENT
BEGIN:VEVENT
DTSTART;TZID=UTC:20271221T170000
DTEND;TZID=UTC:20271221T180000
DTSTAMP:20260419T144437
CREATED:20251121T230815Z
LAST-MODIFIED:20251121T230815Z
UID:10000990-1829408400-1829412000@www.cityofmagee.ms.gov
SUMMARY:Board of Aldermen meeting
DESCRIPTION:
URL:https://www.cityofmagee.ms.gov/event/board-of-aldermen-meeting-2-2-2/2027-12-21/
LOCATION:City Hall\, 123 Main Avenue North\, Magee\, MS\, 39111\, United States
END:VEVENT
BEGIN:VEVENT
DTSTART;TZID=UTC:20271222T110000
DTEND;TZID=UTC:20271222T120000
DTSTAMP:20260419T144437
CREATED:20230901T192816Z
LAST-MODIFIED:20241122T210753Z
UID:10000227-1829473200-1829476800@www.cityofmagee.ms.gov
SUMMARY:Story Time at the library
DESCRIPTION:Reading to children helps with language development and teaches empathy and emotional awareness plus they get to sing songs and make some crafts!
URL:https://www.cityofmagee.ms.gov/event/story-time-at-the-library/2027-12-22/
LOCATION:Magee Library\, 120 First Street NW\, Magee\, MS\, 39111\, United States
END:VEVENT
BEGIN:VEVENT
DTSTART;TZID=UTC:20271229T110000
DTEND;TZID=UTC:20271229T120000
DTSTAMP:20260419T144437
CREATED:20230901T192816Z
LAST-MODIFIED:20241122T210753Z
UID:10000228-1830078000-1830081600@www.cityofmagee.ms.gov
SUMMARY:Story Time at the library
DESCRIPTION:Reading to children helps with language development and teaches empathy and emotional awareness plus they get to sing songs and make some crafts!
URL:https://www.cityofmagee.ms.gov/event/story-time-at-the-library/2027-12-29/
LOCATION:Magee Library\, 120 First Street NW\, Magee\, MS\, 39111\, United States
END:VEVENT
BEGIN:VEVENT
DTSTART;TZID=UTC:20280103T120000
DTEND;TZID=UTC:20280103T120000
DTSTAMP:20260419T144437
CREATED:20230906T143828Z
LAST-MODIFIED:20230906T144229Z
UID:10000495-1830513600-1830513600@www.cityofmagee.ms.gov
SUMMARY:Lions Club Meeting
DESCRIPTION:
URL:https://www.cityofmagee.ms.gov/event/lions-club-meeting/2028-01-03/
LOCATION:Berry’s Seafood and Catfish House\, 1616 US 49\, Magee\, MS\, 39111\, United States
END:VEVENT
BEGIN:VEVENT
DTSTART;TZID=UTC:20280104T170000
DTEND;TZID=UTC:20280104T180000
DTSTAMP:20260419T144437
CREATED:20251121T230422Z
LAST-MODIFIED:20251121T230638Z
UID:10000932-1830618000-1830621600@www.cityofmagee.ms.gov
SUMMARY:Board of Aldermen meeting
DESCRIPTION:
URL:https://www.cityofmagee.ms.gov/event/board-of-aldermen-meeting-5/2028-01-04/
LOCATION:City Hall\, 123 Main Avenue North\, Magee\, MS\, 39111\, United States
END:VEVENT
BEGIN:VEVENT
DTSTART;TZID=UTC:20280105T110000
DTEND;TZID=UTC:20280105T120000
DTSTAMP:20260419T144437
CREATED:20230901T192816Z
LAST-MODIFIED:20241122T210753Z
UID:10000229-1830682800-1830686400@www.cityofmagee.ms.gov
SUMMARY:Story Time at the library
DESCRIPTION:Reading to children helps with language development and teaches empathy and emotional awareness plus they get to sing songs and make some crafts!
URL:https://www.cityofmagee.ms.gov/event/story-time-at-the-library/2028-01-05/
LOCATION:Magee Library\, 120 First Street NW\, Magee\, MS\, 39111\, United States
END:VEVENT
BEGIN:VEVENT
DTSTART;TZID=UTC:20280110T120000
DTEND;TZID=UTC:20280110T120000
DTSTAMP:20260419T144437
CREATED:20230906T144119Z
LAST-MODIFIED:20230906T144119Z
UID:10000436-1831118400-1831118400@www.cityofmagee.ms.gov
SUMMARY:Lions Club Meeting
DESCRIPTION:
URL:https://www.cityofmagee.ms.gov/event/lions-club-meeting-2/2028-01-10/
LOCATION:Berry’s Seafood and Catfish House\, 1616 US 49\, Magee\, MS\, 39111\, United States
END:VEVENT
BEGIN:VEVENT
DTSTART;TZID=UTC:20280112T110000
DTEND;TZID=UTC:20280112T120000
DTSTAMP:20260419T144437
CREATED:20230901T192816Z
LAST-MODIFIED:20241122T210753Z
UID:10000230-1831287600-1831291200@www.cityofmagee.ms.gov
SUMMARY:Story Time at the library
DESCRIPTION:Reading to children helps with language development and teaches empathy and emotional awareness plus they get to sing songs and make some crafts!
URL:https://www.cityofmagee.ms.gov/event/story-time-at-the-library/2028-01-12/
LOCATION:Magee Library\, 120 First Street NW\, Magee\, MS\, 39111\, United States
END:VEVENT
BEGIN:VEVENT
DTSTART;TZID=UTC:20280118T170000
DTEND;TZID=UTC:20280118T180000
DTSTAMP:20260419T144437
CREATED:20251121T230815Z
LAST-MODIFIED:20251121T230815Z
UID:10000991-1831827600-1831831200@www.cityofmagee.ms.gov
SUMMARY:Board of Aldermen meeting
DESCRIPTION:
URL:https://www.cityofmagee.ms.gov/event/board-of-aldermen-meeting-2-2-2/2028-01-18/
LOCATION:City Hall\, 123 Main Avenue North\, Magee\, MS\, 39111\, United States
END:VEVENT
BEGIN:VEVENT
DTSTART;TZID=UTC:20280119T110000
DTEND;TZID=UTC:20280119T120000
DTSTAMP:20260419T144437
CREATED:20230901T192816Z
LAST-MODIFIED:20241122T210753Z
UID:10000231-1831892400-1831896000@www.cityofmagee.ms.gov
SUMMARY:Story Time at the library
DESCRIPTION:Reading to children helps with language development and teaches empathy and emotional awareness plus they get to sing songs and make some crafts!
URL:https://www.cityofmagee.ms.gov/event/story-time-at-the-library/2028-01-19/
LOCATION:Magee Library\, 120 First Street NW\, Magee\, MS\, 39111\, United States
END:VEVENT
BEGIN:VEVENT
DTSTART;TZID=UTC:20280126T110000
DTEND;TZID=UTC:20280126T120000
DTSTAMP:20260419T144437
CREATED:20230901T192816Z
LAST-MODIFIED:20241122T210753Z
UID:10000232-1832497200-1832500800@www.cityofmagee.ms.gov
SUMMARY:Story Time at the library
DESCRIPTION:Reading to children helps with language development and teaches empathy and emotional awareness plus they get to sing songs and make some crafts!
URL:https://www.cityofmagee.ms.gov/event/story-time-at-the-library/2028-01-26/
LOCATION:Magee Library\, 120 First Street NW\, Magee\, MS\, 39111\, United States
END:VEVENT
BEGIN:VEVENT
DTSTART;TZID=UTC:20280201T170000
DTEND;TZID=UTC:20280201T180000
DTSTAMP:20260419T144437
CREATED:20251121T230422Z
LAST-MODIFIED:20251121T230638Z
UID:10000933-1833037200-1833040800@www.cityofmagee.ms.gov
SUMMARY:Board of Aldermen meeting
DESCRIPTION:
URL:https://www.cityofmagee.ms.gov/event/board-of-aldermen-meeting-5/2028-02-01/
LOCATION:City Hall\, 123 Main Avenue North\, Magee\, MS\, 39111\, United States
END:VEVENT
BEGIN:VEVENT
DTSTART;TZID=UTC:20280202T110000
DTEND;TZID=UTC:20280202T120000
DTSTAMP:20260419T144437
CREATED:20230901T192816Z
LAST-MODIFIED:20241122T210753Z
UID:10000233-1833102000-1833105600@www.cityofmagee.ms.gov
SUMMARY:Story Time at the library
DESCRIPTION:Reading to children helps with language development and teaches empathy and emotional awareness plus they get to sing songs and make some crafts!
URL:https://www.cityofmagee.ms.gov/event/story-time-at-the-library/2028-02-02/
LOCATION:Magee Library\, 120 First Street NW\, Magee\, MS\, 39111\, United States
END:VEVENT
BEGIN:VEVENT
DTSTART;TZID=UTC:20280207T120000
DTEND;TZID=UTC:20280207T120000
DTSTAMP:20260419T144437
CREATED:20230906T143828Z
LAST-MODIFIED:20230906T144229Z
UID:10000496-1833537600-1833537600@www.cityofmagee.ms.gov
SUMMARY:Lions Club Meeting
DESCRIPTION:
URL:https://www.cityofmagee.ms.gov/event/lions-club-meeting/2028-02-07/
LOCATION:Berry’s Seafood and Catfish House\, 1616 US 49\, Magee\, MS\, 39111\, United States
END:VEVENT
BEGIN:VEVENT
DTSTART;TZID=UTC:20280209T110000
DTEND;TZID=UTC:20280209T120000
DTSTAMP:20260419T144437
CREATED:20230901T192816Z
LAST-MODIFIED:20241122T210753Z
UID:10000234-1833706800-1833710400@www.cityofmagee.ms.gov
SUMMARY:Story Time at the library
DESCRIPTION:Reading to children helps with language development and teaches empathy and emotional awareness plus they get to sing songs and make some crafts!
URL:https://www.cityofmagee.ms.gov/event/story-time-at-the-library/2028-02-09/
LOCATION:Magee Library\, 120 First Street NW\, Magee\, MS\, 39111\, United States
END:VEVENT
BEGIN:VEVENT
DTSTART;TZID=UTC:20280214T120000
DTEND;TZID=UTC:20280214T120000
DTSTAMP:20260419T144437
CREATED:20230906T144119Z
LAST-MODIFIED:20230906T144119Z
UID:10000437-1834142400-1834142400@www.cityofmagee.ms.gov
SUMMARY:Lions Club Meeting
DESCRIPTION:
URL:https://www.cityofmagee.ms.gov/event/lions-club-meeting-2/2028-02-14/
LOCATION:Berry’s Seafood and Catfish House\, 1616 US 49\, Magee\, MS\, 39111\, United States
END:VEVENT
BEGIN:VEVENT
DTSTART;TZID=UTC:20280215T170000
DTEND;TZID=UTC:20280215T180000
DTSTAMP:20260419T144437
CREATED:20251121T230815Z
LAST-MODIFIED:20251121T230815Z
UID:10000992-1834246800-1834250400@www.cityofmagee.ms.gov
SUMMARY:Board of Aldermen meeting
DESCRIPTION:
URL:https://www.cityofmagee.ms.gov/event/board-of-aldermen-meeting-2-2-2/2028-02-15/
LOCATION:City Hall\, 123 Main Avenue North\, Magee\, MS\, 39111\, United States
END:VEVENT
BEGIN:VEVENT
DTSTART;TZID=UTC:20280216T110000
DTEND;TZID=UTC:20280216T120000
DTSTAMP:20260419T144437
CREATED:20230901T192816Z
LAST-MODIFIED:20241122T210753Z
UID:10000235-1834311600-1834315200@www.cityofmagee.ms.gov
SUMMARY:Story Time at the library
DESCRIPTION:Reading to children helps with language development and teaches empathy and emotional awareness plus they get to sing songs and make some crafts!
URL:https://www.cityofmagee.ms.gov/event/story-time-at-the-library/2028-02-16/
LOCATION:Magee Library\, 120 First Street NW\, Magee\, MS\, 39111\, United States
END:VEVENT
BEGIN:VEVENT
DTSTART;TZID=UTC:20280223T110000
DTEND;TZID=UTC:20280223T120000
DTSTAMP:20260419T144437
CREATED:20230901T192816Z
LAST-MODIFIED:20241122T210753Z
UID:10000236-1834916400-1834920000@www.cityofmagee.ms.gov
SUMMARY:Story Time at the library
DESCRIPTION:Reading to children helps with language development and teaches empathy and emotional awareness plus they get to sing songs and make some crafts!
URL:https://www.cityofmagee.ms.gov/event/story-time-at-the-library/2028-02-23/
LOCATION:Magee Library\, 120 First Street NW\, Magee\, MS\, 39111\, United States
END:VEVENT
BEGIN:VEVENT
DTSTART;TZID=UTC:20280301T110000
DTEND;TZID=UTC:20280301T120000
DTSTAMP:20260419T144437
CREATED:20230901T192816Z
LAST-MODIFIED:20241122T210753Z
UID:10000237-1835521200-1835524800@www.cityofmagee.ms.gov
SUMMARY:Story Time at the library
DESCRIPTION:Reading to children helps with language development and teaches empathy and emotional awareness plus they get to sing songs and make some crafts!
URL:https://www.cityofmagee.ms.gov/event/story-time-at-the-library/2028-03-01/
LOCATION:Magee Library\, 120 First Street NW\, Magee\, MS\, 39111\, United States
END:VEVENT
BEGIN:VEVENT
DTSTART;TZID=UTC:20280306T120000
DTEND;TZID=UTC:20280306T120000
DTSTAMP:20260419T144437
CREATED:20230906T143828Z
LAST-MODIFIED:20230906T144229Z
UID:10000497-1835956800-1835956800@www.cityofmagee.ms.gov
SUMMARY:Lions Club Meeting
DESCRIPTION:
URL:https://www.cityofmagee.ms.gov/event/lions-club-meeting/2028-03-06/
LOCATION:Berry’s Seafood and Catfish House\, 1616 US 49\, Magee\, MS\, 39111\, United States
END:VEVENT
BEGIN:VEVENT
DTSTART;TZID=UTC:20280307T170000
DTEND;TZID=UTC:20280307T180000
DTSTAMP:20260419T144437
CREATED:20251121T230422Z
LAST-MODIFIED:20251121T230638Z
UID:10000934-1836061200-1836064800@www.cityofmagee.ms.gov
SUMMARY:Board of Aldermen meeting
DESCRIPTION:
URL:https://www.cityofmagee.ms.gov/event/board-of-aldermen-meeting-5/2028-03-07/
LOCATION:City Hall\, 123 Main Avenue North\, Magee\, MS\, 39111\, United States
END:VEVENT
BEGIN:VEVENT
DTSTART;TZID=UTC:20280308T110000
DTEND;TZID=UTC:20280308T120000
DTSTAMP:20260419T144437
CREATED:20230901T192816Z
LAST-MODIFIED:20241122T210753Z
UID:10000238-1836126000-1836129600@www.cityofmagee.ms.gov
SUMMARY:Story Time at the library
DESCRIPTION:Reading to children helps with language development and teaches empathy and emotional awareness plus they get to sing songs and make some crafts!
URL:https://www.cityofmagee.ms.gov/event/story-time-at-the-library/2028-03-08/
LOCATION:Magee Library\, 120 First Street NW\, Magee\, MS\, 39111\, United States
END:VEVENT
BEGIN:VEVENT
DTSTART;TZID=UTC:20280313T120000
DTEND;TZID=UTC:20280313T120000
DTSTAMP:20260419T144437
CREATED:20230906T144119Z
LAST-MODIFIED:20230906T144119Z
UID:10000438-1836561600-1836561600@www.cityofmagee.ms.gov
SUMMARY:Lions Club Meeting
DESCRIPTION:
URL:https://www.cityofmagee.ms.gov/event/lions-club-meeting-2/2028-03-13/
LOCATION:Berry’s Seafood and Catfish House\, 1616 US 49\, Magee\, MS\, 39111\, United States
END:VEVENT
BEGIN:VEVENT
DTSTART;TZID=UTC:20280315T110000
DTEND;TZID=UTC:20280315T120000
DTSTAMP:20260419T144437
CREATED:20230901T192816Z
LAST-MODIFIED:20241122T210753Z
UID:10000239-1836730800-1836734400@www.cityofmagee.ms.gov
SUMMARY:Story Time at the library
DESCRIPTION:Reading to children helps with language development and teaches empathy and emotional awareness plus they get to sing songs and make some crafts!
URL:https://www.cityofmagee.ms.gov/event/story-time-at-the-library/2028-03-15/
LOCATION:Magee Library\, 120 First Street NW\, Magee\, MS\, 39111\, United States
END:VEVENT
BEGIN:VEVENT
DTSTART;TZID=UTC:20280321T170000
DTEND;TZID=UTC:20280321T180000
DTSTAMP:20260419T144437
CREATED:20251121T230815Z
LAST-MODIFIED:20251121T230815Z
UID:10000993-1837270800-1837274400@www.cityofmagee.ms.gov
SUMMARY:Board of Aldermen meeting
DESCRIPTION:
URL:https://www.cityofmagee.ms.gov/event/board-of-aldermen-meeting-2-2-2/2028-03-21/
LOCATION:City Hall\, 123 Main Avenue North\, Magee\, MS\, 39111\, United States
END:VEVENT
BEGIN:VEVENT
DTSTART;TZID=UTC:20280322T110000
DTEND;TZID=UTC:20280322T120000
DTSTAMP:20260419T144437
CREATED:20230901T192816Z
LAST-MODIFIED:20241122T210753Z
UID:10000240-1837335600-1837339200@www.cityofmagee.ms.gov
SUMMARY:Story Time at the library
DESCRIPTION:Reading to children helps with language development and teaches empathy and emotional awareness plus they get to sing songs and make some crafts!
URL:https://www.cityofmagee.ms.gov/event/story-time-at-the-library/2028-03-22/
LOCATION:Magee Library\, 120 First Street NW\, Magee\, MS\, 39111\, United States
END:VEVENT
BEGIN:VEVENT
DTSTART;TZID=UTC:20280329T110000
DTEND;TZID=UTC:20280329T120000
DTSTAMP:20260419T144437
CREATED:20230901T192816Z
LAST-MODIFIED:20241122T210753Z
UID:10000241-1837940400-1837944000@www.cityofmagee.ms.gov
SUMMARY:Story Time at the library
DESCRIPTION:Reading to children helps with language development and teaches empathy and emotional awareness plus they get to sing songs and make some crafts!
URL:https://www.cityofmagee.ms.gov/event/story-time-at-the-library/2028-03-29/
LOCATION:Magee Library\, 120 First Street NW\, Magee\, MS\, 39111\, United States
END:VEVENT
BEGIN:VEVENT
DTSTART;TZID=UTC:20280403T120000
DTEND;TZID=UTC:20280403T120000
DTSTAMP:20260419T144437
CREATED:20230906T143828Z
LAST-MODIFIED:20230906T144229Z
UID:10000498-1838376000-1838376000@www.cityofmagee.ms.gov
SUMMARY:Lions Club Meeting
DESCRIPTION:
URL:https://www.cityofmagee.ms.gov/event/lions-club-meeting/2028-04-03/
LOCATION:Berry’s Seafood and Catfish House\, 1616 US 49\, Magee\, MS\, 39111\, United States
END:VEVENT
END:VCALENDAR