BEGIN:VCALENDAR
VERSION:2.0
PRODID:-//City of Magee - ECPv6.14.2//NONSGML v1.0//EN
CALSCALE:GREGORIAN
METHOD:PUBLISH
X-WR-CALNAME:City of Magee
X-ORIGINAL-URL:https://www.cityofmagee.ms.gov
X-WR-CALDESC:Events for City of Magee
REFRESH-INTERVAL;VALUE=DURATION:PT1H
X-Robots-Tag:noindex
X-PUBLISHED-TTL:PT1H
BEGIN:VTIMEZONE
TZID:UTC
BEGIN:STANDARD
TZOFFSETFROM:+0000
TZOFFSETTO:+0000
TZNAME:UTC
DTSTART:20240101T000000
END:STANDARD
END:VTIMEZONE
BEGIN:VEVENT
DTSTART;TZID=UTC:20241116T100000
DTEND;TZID=UTC:20241116T160000
DTSTAMP:20260421T030256
CREATED:20241112T224636Z
LAST-MODIFIED:20241112T224636Z
UID:10000628-1731751200-1731772800@www.cityofmagee.ms.gov
SUMMARY:Holiday Sip and Shop
DESCRIPTION:Join us on Main Street for the second annual Holiday Sip and Shop from 10 AM to 4 PM. Lots of fun\, food\, and shopping for the whole family!
URL:https://www.cityofmagee.ms.gov/event/holiday-sip-and-shop-2/
LOCATION:Main Streeet\, 106 Main Avenue North\, Magee\, 39111\, United States
END:VEVENT
BEGIN:VEVENT
DTSTART;TZID=UTC:20241113T110000
DTEND;TZID=UTC:20241113T120000
DTSTAMP:20260421T030256
CREATED:20230901T192816Z
LAST-MODIFIED:20241122T210753Z
UID:10000065-1731495600-1731499200@www.cityofmagee.ms.gov
SUMMARY:Story Time at the library
DESCRIPTION:Reading to children helps with language development and teaches empathy and emotional awareness plus they get to sing songs and make some crafts!
URL:https://www.cityofmagee.ms.gov/event/story-time-at-the-library/2024-11-13/
LOCATION:Magee Library\, 120 First Street NW\, Magee\, MS\, 39111\, United States
END:VEVENT
BEGIN:VEVENT
DTSTART;TZID=UTC:20241112T173000
DTEND;TZID=UTC:20241112T190000
DTSTAMP:20260421T030256
CREATED:20241112T223912Z
LAST-MODIFIED:20241112T223946Z
UID:10000626-1731432600-1731438000@www.cityofmagee.ms.gov
SUMMARY:Zoning Board Meeting
DESCRIPTION:The Zoning Board will hold its monthly meeting and hearings tonight at 5:30 PM at City Hall. This meeting is open to the public.
URL:https://www.cityofmagee.ms.gov/event/zoning-board-meeting-6/
LOCATION:City Hall\, 123 Main Avenue North\, Magee\, MS\, 39111\, United States
END:VEVENT
BEGIN:VEVENT
DTSTART;TZID=UTC:20241111T120000
DTEND;TZID=UTC:20241111T120000
DTSTAMP:20260421T030256
CREATED:20230906T144119Z
LAST-MODIFIED:20230906T144119Z
UID:10000398-1731326400-1731326400@www.cityofmagee.ms.gov
SUMMARY:Lions Club Meeting
DESCRIPTION:
URL:https://www.cityofmagee.ms.gov/event/lions-club-meeting-2/2024-11-11/
LOCATION:Berry’s Seafood and Catfish House\, 1616 US 49\, Magee\, MS\, 39111\, United States
END:VEVENT
BEGIN:VEVENT
DTSTART;TZID=UTC:20241106T110000
DTEND;TZID=UTC:20241106T120000
DTSTAMP:20260421T030256
CREATED:20230901T192816Z
LAST-MODIFIED:20241122T210753Z
UID:10000064-1730890800-1730894400@www.cityofmagee.ms.gov
SUMMARY:Story Time at the library
DESCRIPTION:Reading to children helps with language development and teaches empathy and emotional awareness plus they get to sing songs and make some crafts!
URL:https://www.cityofmagee.ms.gov/event/story-time-at-the-library/2024-11-06/
LOCATION:Magee Library\, 120 First Street NW\, Magee\, MS\, 39111\, United States
END:VEVENT
BEGIN:VEVENT
DTSTART;TZID=UTC:20241105T180000
DTEND;TZID=UTC:20241105T180000
DTSTAMP:20260421T030256
CREATED:20230823T142532Z
LAST-MODIFIED:20230906T142332Z
UID:10000278-1730829600-1730829600@www.cityofmagee.ms.gov
SUMMARY:Board of Aldermen meeting
DESCRIPTION:
URL:https://www.cityofmagee.ms.gov/event/board-of-aldermen-meeting/2024-11-05/
LOCATION:City Hall\, 123 Main Avenue North\, Magee\, MS\, 39111\, United States
END:VEVENT
BEGIN:VEVENT
DTSTART;TZID=UTC:20241104T120000
DTEND;TZID=UTC:20241104T120000
DTSTAMP:20260421T030256
CREATED:20230906T143828Z
LAST-MODIFIED:20230906T144229Z
UID:10000457-1730721600-1730721600@www.cityofmagee.ms.gov
SUMMARY:Lions Club Meeting
DESCRIPTION:
URL:https://www.cityofmagee.ms.gov/event/lions-club-meeting/2024-11-04/
LOCATION:Berry’s Seafood and Catfish House\, 1616 US 49\, Magee\, MS\, 39111\, United States
END:VEVENT
BEGIN:VEVENT
DTSTART;TZID=UTC:20241030T110000
DTEND;TZID=UTC:20241030T120000
DTSTAMP:20260421T030256
CREATED:20230901T192816Z
LAST-MODIFIED:20241122T210753Z
UID:10000063-1730286000-1730289600@www.cityofmagee.ms.gov
SUMMARY:Story Time at the library
DESCRIPTION:Reading to children helps with language development and teaches empathy and emotional awareness plus they get to sing songs and make some crafts!
URL:https://www.cityofmagee.ms.gov/event/story-time-at-the-library/2024-10-30/
LOCATION:Magee Library\, 120 First Street NW\, Magee\, MS\, 39111\, United States
END:VEVENT
BEGIN:VEVENT
DTSTART;TZID=UTC:20241023T110000
DTEND;TZID=UTC:20241023T120000
DTSTAMP:20260421T030256
CREATED:20230901T192816Z
LAST-MODIFIED:20241122T210753Z
UID:10000062-1729681200-1729684800@www.cityofmagee.ms.gov
SUMMARY:Story Time at the library
DESCRIPTION:Reading to children helps with language development and teaches empathy and emotional awareness plus they get to sing songs and make some crafts!
URL:https://www.cityofmagee.ms.gov/event/story-time-at-the-library/2024-10-23/
LOCATION:Magee Library\, 120 First Street NW\, Magee\, MS\, 39111\, United States
END:VEVENT
BEGIN:VEVENT
DTSTART;TZID=UTC:20241022T173000
DTEND;TZID=UTC:20241022T190000
DTSTAMP:20260421T030256
CREATED:20240930T220116Z
LAST-MODIFIED:20240930T220116Z
UID:10000625-1729618200-1729623600@www.cityofmagee.ms.gov
SUMMARY:Zoning Board Hearings
DESCRIPTION:The Zoning Board will hold its monthly meeting and hearings on October 22\, 2024 at City Hall in Magee. This meeting is open to the public.
URL:https://www.cityofmagee.ms.gov/event/zoning-board-hearings/
LOCATION:City Hall\, 123 Main Avenue North\, Magee\, MS\, 39111\, United States
END:VEVENT
BEGIN:VEVENT
DTSTART;TZID=UTC:20241016T110000
DTEND;TZID=UTC:20241016T120000
DTSTAMP:20260421T030256
CREATED:20230901T192816Z
LAST-MODIFIED:20241122T210753Z
UID:10000061-1729076400-1729080000@www.cityofmagee.ms.gov
SUMMARY:Story Time at the library
DESCRIPTION:Reading to children helps with language development and teaches empathy and emotional awareness plus they get to sing songs and make some crafts!
URL:https://www.cityofmagee.ms.gov/event/story-time-at-the-library/2024-10-16/
LOCATION:Magee Library\, 120 First Street NW\, Magee\, MS\, 39111\, United States
END:VEVENT
BEGIN:VEVENT
DTSTART;TZID=UTC:20241015T180000
DTEND;TZID=UTC:20241015T180000
DTSTAMP:20260421T030256
CREATED:20230823T143558Z
LAST-MODIFIED:20230906T142415Z
UID:10000337-1729015200-1729015200@www.cityofmagee.ms.gov
SUMMARY:Board of Aldermen meeting
DESCRIPTION:
URL:https://www.cityofmagee.ms.gov/event/board-of-aldermen-meeting-2/2024-10-15/
LOCATION:City Hall\, 123 Main Avenue North\, Magee\, MS\, 39111\, United States
END:VEVENT
BEGIN:VEVENT
DTSTART;TZID=UTC:20241014T120000
DTEND;TZID=UTC:20241014T120000
DTSTAMP:20260421T030256
CREATED:20230906T144119Z
LAST-MODIFIED:20230906T144119Z
UID:10000397-1728907200-1728907200@www.cityofmagee.ms.gov
SUMMARY:Lions Club Meeting
DESCRIPTION:
URL:https://www.cityofmagee.ms.gov/event/lions-club-meeting-2/2024-10-14/
LOCATION:Berry’s Seafood and Catfish House\, 1616 US 49\, Magee\, MS\, 39111\, United States
END:VEVENT
BEGIN:VEVENT
DTSTART;TZID=UTC:20241009T110000
DTEND;TZID=UTC:20241009T120000
DTSTAMP:20260421T030256
CREATED:20230901T192816Z
LAST-MODIFIED:20241122T210753Z
UID:10000060-1728471600-1728475200@www.cityofmagee.ms.gov
SUMMARY:Story Time at the library
DESCRIPTION:Reading to children helps with language development and teaches empathy and emotional awareness plus they get to sing songs and make some crafts!
URL:https://www.cityofmagee.ms.gov/event/story-time-at-the-library/2024-10-09/
LOCATION:Magee Library\, 120 First Street NW\, Magee\, MS\, 39111\, United States
END:VEVENT
BEGIN:VEVENT
DTSTART;TZID=UTC:20241007T120000
DTEND;TZID=UTC:20241007T120000
DTSTAMP:20260421T030256
CREATED:20230906T143828Z
LAST-MODIFIED:20230906T144229Z
UID:10000456-1728302400-1728302400@www.cityofmagee.ms.gov
SUMMARY:Lions Club Meeting
DESCRIPTION:
URL:https://www.cityofmagee.ms.gov/event/lions-club-meeting/2024-10-07/
LOCATION:Berry’s Seafood and Catfish House\, 1616 US 49\, Magee\, MS\, 39111\, United States
END:VEVENT
BEGIN:VEVENT
DTSTART;TZID=UTC:20241002T110000
DTEND;TZID=UTC:20241002T120000
DTSTAMP:20260421T030256
CREATED:20230901T192816Z
LAST-MODIFIED:20241122T210753Z
UID:10000059-1727866800-1727870400@www.cityofmagee.ms.gov
SUMMARY:Story Time at the library
DESCRIPTION:Reading to children helps with language development and teaches empathy and emotional awareness plus they get to sing songs and make some crafts!
URL:https://www.cityofmagee.ms.gov/event/story-time-at-the-library/2024-10-02/
LOCATION:Magee Library\, 120 First Street NW\, Magee\, MS\, 39111\, United States
END:VEVENT
BEGIN:VEVENT
DTSTART;TZID=UTC:20241001T180000
DTEND;TZID=UTC:20241001T180000
DTSTAMP:20260421T030256
CREATED:20230823T142532Z
LAST-MODIFIED:20230906T142332Z
UID:10000277-1727805600-1727805600@www.cityofmagee.ms.gov
SUMMARY:Board of Aldermen meeting
DESCRIPTION:
URL:https://www.cityofmagee.ms.gov/event/board-of-aldermen-meeting/2024-10-01/
LOCATION:City Hall\, 123 Main Avenue North\, Magee\, MS\, 39111\, United States
END:VEVENT
BEGIN:VEVENT
DTSTART;TZID=UTC:20240925T110000
DTEND;TZID=UTC:20240925T120000
DTSTAMP:20260421T030256
CREATED:20230901T192816Z
LAST-MODIFIED:20241122T210753Z
UID:10000058-1727262000-1727265600@www.cityofmagee.ms.gov
SUMMARY:Story Time at the library
DESCRIPTION:Reading to children helps with language development and teaches empathy and emotional awareness plus they get to sing songs and make some crafts!
URL:https://www.cityofmagee.ms.gov/event/story-time-at-the-library/2024-09-25/
LOCATION:Magee Library\, 120 First Street NW\, Magee\, MS\, 39111\, United States
END:VEVENT
BEGIN:VEVENT
DTSTART;TZID=UTC:20240924T163000
DTEND;TZID=UTC:20240924T173000
DTSTAMP:20260421T030256
CREATED:20240812T145658Z
LAST-MODIFIED:20240812T145725Z
UID:10000622-1727195400-1727199000@www.cityofmagee.ms.gov
SUMMARY:Airport Board Meeting
DESCRIPTION:The Magee Airport Board will hold its monthly meeting today at 4:30 PM at City Hall. These meetings are open to the public.
URL:https://www.cityofmagee.ms.gov/event/airport-board-meeting-8/
LOCATION:City Hall\, 123 Main Avenue North\, Magee\, MS\, 39111\, United States
END:VEVENT
BEGIN:VEVENT
DTSTART;TZID=UTC:20240918T110000
DTEND;TZID=UTC:20240918T120000
DTSTAMP:20260421T030256
CREATED:20230901T192816Z
LAST-MODIFIED:20241122T210753Z
UID:10000057-1726657200-1726660800@www.cityofmagee.ms.gov
SUMMARY:Story Time at the library
DESCRIPTION:Reading to children helps with language development and teaches empathy and emotional awareness plus they get to sing songs and make some crafts!
URL:https://www.cityofmagee.ms.gov/event/story-time-at-the-library/2024-09-18/
LOCATION:Magee Library\, 120 First Street NW\, Magee\, MS\, 39111\, United States
END:VEVENT
BEGIN:VEVENT
DTSTART;TZID=UTC:20240917T180000
DTEND;TZID=UTC:20240917T180000
DTSTAMP:20260421T030256
CREATED:20230823T143558Z
LAST-MODIFIED:20230906T142415Z
UID:10000336-1726596000-1726596000@www.cityofmagee.ms.gov
SUMMARY:Board of Aldermen meeting
DESCRIPTION:
URL:https://www.cityofmagee.ms.gov/event/board-of-aldermen-meeting-2/2024-09-17/
LOCATION:City Hall\, 123 Main Avenue North\, Magee\, MS\, 39111\, United States
END:VEVENT
BEGIN:VEVENT
DTSTART;TZID=UTC:20240917T110000
DTEND;TZID=UTC:20240917T120000
DTSTAMP:20260421T030256
CREATED:20240912T185341Z
LAST-MODIFIED:20240912T185341Z
UID:10000624-1726570800-1726574400@www.cityofmagee.ms.gov
SUMMARY:Magee Preservation Commission Monthly Meeting
DESCRIPTION:The Magee Preservation Commission will hold its monthly meeting on September 17\, 2024\, at 11 AM at the Magee Community House. This is an open public meeting.
URL:https://www.cityofmagee.ms.gov/event/magee-preservation-commission-monthly-meeting-2/
LOCATION:Magee Community House\, 1st Avenue NW\, Magee\, MS\, 39111\, United States
ORGANIZER;CN="Magee Preservation Commission":MAILTO:mageepreservationcommission@gmail.com
END:VEVENT
BEGIN:VEVENT
DTSTART;TZID=UTC:20240911T110000
DTEND;TZID=UTC:20240911T120000
DTSTAMP:20260421T030256
CREATED:20230901T192816Z
LAST-MODIFIED:20241122T210753Z
UID:10000056-1726052400-1726056000@www.cityofmagee.ms.gov
SUMMARY:Story Time at the library
DESCRIPTION:Reading to children helps with language development and teaches empathy and emotional awareness plus they get to sing songs and make some crafts!
URL:https://www.cityofmagee.ms.gov/event/story-time-at-the-library/2024-09-11/
LOCATION:Magee Library\, 120 First Street NW\, Magee\, MS\, 39111\, United States
END:VEVENT
BEGIN:VEVENT
DTSTART;TZID=UTC:20240910T173000
DTEND;TZID=UTC:20240910T190000
DTSTAMP:20260421T030256
CREATED:20240812T144537Z
LAST-MODIFIED:20240812T144552Z
UID:10000619-1725989400-1725994800@www.cityofmagee.ms.gov
SUMMARY:Zoning Board Hearings and Meeting
DESCRIPTION:The Zoning Board will hold its monthly meeting and hearings on September 10\, 2024. These meetings are open to the public\, and all are invited to attend.
URL:https://www.cityofmagee.ms.gov/event/zoning-board-hearings-and-meeting/
LOCATION:City Hall\, 123 Main Avenue North\, Magee\, MS\, 39111\, United States
END:VEVENT
BEGIN:VEVENT
DTSTART;TZID=UTC:20240909T120000
DTEND;TZID=UTC:20240909T120000
DTSTAMP:20260421T030256
CREATED:20230906T144119Z
LAST-MODIFIED:20230906T144119Z
UID:10000396-1725883200-1725883200@www.cityofmagee.ms.gov
SUMMARY:Lions Club Meeting
DESCRIPTION:
URL:https://www.cityofmagee.ms.gov/event/lions-club-meeting-2/2024-09-09/
LOCATION:Berry’s Seafood and Catfish House\, 1616 US 49\, Magee\, MS\, 39111\, United States
END:VEVENT
BEGIN:VEVENT
DTSTART;TZID=UTC:20240904T110000
DTEND;TZID=UTC:20240904T120000
DTSTAMP:20260421T030256
CREATED:20230901T192816Z
LAST-MODIFIED:20241122T210753Z
UID:10000055-1725447600-1725451200@www.cityofmagee.ms.gov
SUMMARY:Story Time at the library
DESCRIPTION:Reading to children helps with language development and teaches empathy and emotional awareness plus they get to sing songs and make some crafts!
URL:https://www.cityofmagee.ms.gov/event/story-time-at-the-library/2024-09-04/
LOCATION:Magee Library\, 120 First Street NW\, Magee\, MS\, 39111\, United States
END:VEVENT
BEGIN:VEVENT
DTSTART;TZID=UTC:20240903T180000
DTEND;TZID=UTC:20240903T180000
DTSTAMP:20260421T030256
CREATED:20230823T142532Z
LAST-MODIFIED:20230906T142332Z
UID:10000276-1725386400-1725386400@www.cityofmagee.ms.gov
SUMMARY:Board of Aldermen meeting
DESCRIPTION:
URL:https://www.cityofmagee.ms.gov/event/board-of-aldermen-meeting/2024-09-03/
LOCATION:City Hall\, 123 Main Avenue North\, Magee\, MS\, 39111\, United States
END:VEVENT
BEGIN:VEVENT
DTSTART;TZID=UTC:20240902T120000
DTEND;TZID=UTC:20240902T120000
DTSTAMP:20260421T030256
CREATED:20230906T143828Z
LAST-MODIFIED:20230906T144229Z
UID:10000455-1725278400-1725278400@www.cityofmagee.ms.gov
SUMMARY:Lions Club Meeting
DESCRIPTION:
URL:https://www.cityofmagee.ms.gov/event/lions-club-meeting/2024-09-02/
LOCATION:Berry’s Seafood and Catfish House\, 1616 US 49\, Magee\, MS\, 39111\, United States
END:VEVENT
BEGIN:VEVENT
DTSTART;VALUE=DATE:20240902
DTEND;VALUE=DATE:20240903
DTSTAMP:20260421T030256
CREATED:20240812T144212Z
LAST-MODIFIED:20240812T144241Z
UID:10000618-1725235200-1725321599@www.cityofmagee.ms.gov
SUMMARY:City Hall Closed
DESCRIPTION:City Hall will be closed today for Labor Day.
URL:https://www.cityofmagee.ms.gov/event/city-hall-closed-6/
LOCATION:City Hall\, 123 Main Avenue North\, Magee\, MS\, 39111\, United States
END:VEVENT
BEGIN:VEVENT
DTSTART;TZID=UTC:20240828T110000
DTEND;TZID=UTC:20240828T120000
DTSTAMP:20260421T030256
CREATED:20230901T192816Z
LAST-MODIFIED:20241122T210753Z
UID:10000054-1724842800-1724846400@www.cityofmagee.ms.gov
SUMMARY:Story Time at the library
DESCRIPTION:Reading to children helps with language development and teaches empathy and emotional awareness plus they get to sing songs and make some crafts!
URL:https://www.cityofmagee.ms.gov/event/story-time-at-the-library/2024-08-28/
LOCATION:Magee Library\, 120 First Street NW\, Magee\, MS\, 39111\, United States
END:VEVENT
END:VCALENDAR