BEGIN:VCALENDAR
VERSION:2.0
PRODID:-//City of Magee - ECPv6.14.2//NONSGML v1.0//EN
CALSCALE:GREGORIAN
METHOD:PUBLISH
X-ORIGINAL-URL:https://www.cityofmagee.ms.gov
X-WR-CALDESC:Events for City of Magee
REFRESH-INTERVAL;VALUE=DURATION:PT1H
X-Robots-Tag:noindex
X-PUBLISHED-TTL:PT1H
BEGIN:VTIMEZONE
TZID:UTC
BEGIN:STANDARD
TZOFFSETFROM:+0000
TZOFFSETTO:+0000
TZNAME:UTC
DTSTART:20280101T000000
END:STANDARD
END:VTIMEZONE
BEGIN:VEVENT
DTSTART;TZID=UTC:20280719T110000
DTEND;TZID=UTC:20280719T120000
DTSTAMP:20260420T161220
CREATED:20230901T192816Z
LAST-MODIFIED:20241122T210753Z
UID:10000257-1847617200-1847620800@www.cityofmagee.ms.gov
SUMMARY:Story Time at the library
DESCRIPTION:Reading to children helps with language development and teaches empathy and emotional awareness plus they get to sing songs and make some crafts!
URL:https://www.cityofmagee.ms.gov/event/story-time-at-the-library/2028-07-19/
LOCATION:Magee Library\, 120 First Street NW\, Magee\, MS\, 39111\, United States
END:VEVENT
BEGIN:VEVENT
DTSTART;TZID=UTC:20280726T110000
DTEND;TZID=UTC:20280726T120000
DTSTAMP:20260420T161220
CREATED:20230901T192816Z
LAST-MODIFIED:20241122T210753Z
UID:10000258-1848222000-1848225600@www.cityofmagee.ms.gov
SUMMARY:Story Time at the library
DESCRIPTION:Reading to children helps with language development and teaches empathy and emotional awareness plus they get to sing songs and make some crafts!
URL:https://www.cityofmagee.ms.gov/event/story-time-at-the-library/2028-07-26/
LOCATION:Magee Library\, 120 First Street NW\, Magee\, MS\, 39111\, United States
END:VEVENT
BEGIN:VEVENT
DTSTART;TZID=UTC:20280801T170000
DTEND;TZID=UTC:20280801T180000
DTSTAMP:20260420T161220
CREATED:20251121T230422Z
LAST-MODIFIED:20251121T230638Z
UID:10000939-1848762000-1848765600@www.cityofmagee.ms.gov
SUMMARY:Board of Aldermen meeting
DESCRIPTION:
URL:https://www.cityofmagee.ms.gov/event/board-of-aldermen-meeting-5/2028-08-01/
LOCATION:City Hall\, 123 Main Avenue North\, Magee\, MS\, 39111\, United States
END:VEVENT
BEGIN:VEVENT
DTSTART;TZID=UTC:20280802T110000
DTEND;TZID=UTC:20280802T120000
DTSTAMP:20260420T161220
CREATED:20230901T192816Z
LAST-MODIFIED:20241122T210753Z
UID:10000259-1848826800-1848830400@www.cityofmagee.ms.gov
SUMMARY:Story Time at the library
DESCRIPTION:Reading to children helps with language development and teaches empathy and emotional awareness plus they get to sing songs and make some crafts!
URL:https://www.cityofmagee.ms.gov/event/story-time-at-the-library/2028-08-02/
LOCATION:Magee Library\, 120 First Street NW\, Magee\, MS\, 39111\, United States
END:VEVENT
BEGIN:VEVENT
DTSTART;TZID=UTC:20280807T120000
DTEND;TZID=UTC:20280807T120000
DTSTAMP:20260420T161220
CREATED:20230906T143828Z
LAST-MODIFIED:20230906T144229Z
UID:10000502-1849262400-1849262400@www.cityofmagee.ms.gov
SUMMARY:Lions Club Meeting
DESCRIPTION:
URL:https://www.cityofmagee.ms.gov/event/lions-club-meeting/2028-08-07/
LOCATION:Berry’s Seafood and Catfish House\, 1616 US 49\, Magee\, MS\, 39111\, United States
END:VEVENT
BEGIN:VEVENT
DTSTART;TZID=UTC:20280809T110000
DTEND;TZID=UTC:20280809T120000
DTSTAMP:20260420T161220
CREATED:20230901T192816Z
LAST-MODIFIED:20241122T210753Z
UID:10000260-1849431600-1849435200@www.cityofmagee.ms.gov
SUMMARY:Story Time at the library
DESCRIPTION:Reading to children helps with language development and teaches empathy and emotional awareness plus they get to sing songs and make some crafts!
URL:https://www.cityofmagee.ms.gov/event/story-time-at-the-library/2028-08-09/
LOCATION:Magee Library\, 120 First Street NW\, Magee\, MS\, 39111\, United States
END:VEVENT
BEGIN:VEVENT
DTSTART;TZID=UTC:20280814T120000
DTEND;TZID=UTC:20280814T120000
DTSTAMP:20260420T161220
CREATED:20230906T144119Z
LAST-MODIFIED:20230906T144119Z
UID:10000443-1849867200-1849867200@www.cityofmagee.ms.gov
SUMMARY:Lions Club Meeting
DESCRIPTION:
URL:https://www.cityofmagee.ms.gov/event/lions-club-meeting-2/2028-08-14/
LOCATION:Berry’s Seafood and Catfish House\, 1616 US 49\, Magee\, MS\, 39111\, United States
END:VEVENT
BEGIN:VEVENT
DTSTART;TZID=UTC:20280815T170000
DTEND;TZID=UTC:20280815T180000
DTSTAMP:20260420T161220
CREATED:20251121T230815Z
LAST-MODIFIED:20251121T230815Z
UID:10000998-1849971600-1849975200@www.cityofmagee.ms.gov
SUMMARY:Board of Aldermen meeting
DESCRIPTION:
URL:https://www.cityofmagee.ms.gov/event/board-of-aldermen-meeting-2-2-2/2028-08-15/
LOCATION:City Hall\, 123 Main Avenue North\, Magee\, MS\, 39111\, United States
END:VEVENT
BEGIN:VEVENT
DTSTART;TZID=UTC:20280816T110000
DTEND;TZID=UTC:20280816T120000
DTSTAMP:20260420T161220
CREATED:20230901T192816Z
LAST-MODIFIED:20241122T210753Z
UID:10000261-1850036400-1850040000@www.cityofmagee.ms.gov
SUMMARY:Story Time at the library
DESCRIPTION:Reading to children helps with language development and teaches empathy and emotional awareness plus they get to sing songs and make some crafts!
URL:https://www.cityofmagee.ms.gov/event/story-time-at-the-library/2028-08-16/
LOCATION:Magee Library\, 120 First Street NW\, Magee\, MS\, 39111\, United States
END:VEVENT
BEGIN:VEVENT
DTSTART;TZID=UTC:20280823T110000
DTEND;TZID=UTC:20280823T120000
DTSTAMP:20260420T161220
CREATED:20230901T192816Z
LAST-MODIFIED:20241122T210753Z
UID:10000262-1850641200-1850644800@www.cityofmagee.ms.gov
SUMMARY:Story Time at the library
DESCRIPTION:Reading to children helps with language development and teaches empathy and emotional awareness plus they get to sing songs and make some crafts!
URL:https://www.cityofmagee.ms.gov/event/story-time-at-the-library/2028-08-23/
LOCATION:Magee Library\, 120 First Street NW\, Magee\, MS\, 39111\, United States
END:VEVENT
BEGIN:VEVENT
DTSTART;TZID=UTC:20280830T110000
DTEND;TZID=UTC:20280830T120000
DTSTAMP:20260420T161220
CREATED:20230901T192816Z
LAST-MODIFIED:20241122T210753Z
UID:10000263-1851246000-1851249600@www.cityofmagee.ms.gov
SUMMARY:Story Time at the library
DESCRIPTION:Reading to children helps with language development and teaches empathy and emotional awareness plus they get to sing songs and make some crafts!
URL:https://www.cityofmagee.ms.gov/event/story-time-at-the-library/2028-08-30/
LOCATION:Magee Library\, 120 First Street NW\, Magee\, MS\, 39111\, United States
END:VEVENT
BEGIN:VEVENT
DTSTART;TZID=UTC:20280904T120000
DTEND;TZID=UTC:20280904T120000
DTSTAMP:20260420T161220
CREATED:20230906T143828Z
LAST-MODIFIED:20230906T144229Z
UID:10000503-1851681600-1851681600@www.cityofmagee.ms.gov
SUMMARY:Lions Club Meeting
DESCRIPTION:
URL:https://www.cityofmagee.ms.gov/event/lions-club-meeting/2028-09-04/
LOCATION:Berry’s Seafood and Catfish House\, 1616 US 49\, Magee\, MS\, 39111\, United States
END:VEVENT
BEGIN:VEVENT
DTSTART;TZID=UTC:20280905T170000
DTEND;TZID=UTC:20280905T180000
DTSTAMP:20260420T161220
CREATED:20251121T230422Z
LAST-MODIFIED:20251121T230638Z
UID:10000940-1851786000-1851789600@www.cityofmagee.ms.gov
SUMMARY:Board of Aldermen meeting
DESCRIPTION:
URL:https://www.cityofmagee.ms.gov/event/board-of-aldermen-meeting-5/2028-09-05/
LOCATION:City Hall\, 123 Main Avenue North\, Magee\, MS\, 39111\, United States
END:VEVENT
BEGIN:VEVENT
DTSTART;TZID=UTC:20280906T110000
DTEND;TZID=UTC:20280906T120000
DTSTAMP:20260420T161220
CREATED:20230901T192816Z
LAST-MODIFIED:20241122T210753Z
UID:10000264-1851850800-1851854400@www.cityofmagee.ms.gov
SUMMARY:Story Time at the library
DESCRIPTION:Reading to children helps with language development and teaches empathy and emotional awareness plus they get to sing songs and make some crafts!
URL:https://www.cityofmagee.ms.gov/event/story-time-at-the-library/2028-09-06/
LOCATION:Magee Library\, 120 First Street NW\, Magee\, MS\, 39111\, United States
END:VEVENT
BEGIN:VEVENT
DTSTART;TZID=UTC:20280913T110000
DTEND;TZID=UTC:20280913T120000
DTSTAMP:20260420T161220
CREATED:20230901T192816Z
LAST-MODIFIED:20241122T210753Z
UID:10000632-1852455600-1852459200@www.cityofmagee.ms.gov
SUMMARY:Story Time at the library
DESCRIPTION:Reading to children helps with language development and teaches empathy and emotional awareness plus they get to sing songs and make some crafts!
URL:https://www.cityofmagee.ms.gov/event/story-time-at-the-library/2028-09-13/
LOCATION:Magee Library\, 120 First Street NW\, Magee\, MS\, 39111\, United States
END:VEVENT
BEGIN:VEVENT
DTSTART;TZID=UTC:20280919T170000
DTEND;TZID=UTC:20280919T180000
DTSTAMP:20260420T161220
CREATED:20251121T230815Z
LAST-MODIFIED:20251121T230815Z
UID:10000999-1852995600-1852999200@www.cityofmagee.ms.gov
SUMMARY:Board of Aldermen meeting
DESCRIPTION:
URL:https://www.cityofmagee.ms.gov/event/board-of-aldermen-meeting-2-2-2/2028-09-19/
LOCATION:City Hall\, 123 Main Avenue North\, Magee\, MS\, 39111\, United States
END:VEVENT
BEGIN:VEVENT
DTSTART;TZID=UTC:20280920T110000
DTEND;TZID=UTC:20280920T120000
DTSTAMP:20260420T161220
CREATED:20230901T192816Z
LAST-MODIFIED:20241122T210753Z
UID:10000633-1853060400-1853064000@www.cityofmagee.ms.gov
SUMMARY:Story Time at the library
DESCRIPTION:Reading to children helps with language development and teaches empathy and emotional awareness plus they get to sing songs and make some crafts!
URL:https://www.cityofmagee.ms.gov/event/story-time-at-the-library/2028-09-20/
LOCATION:Magee Library\, 120 First Street NW\, Magee\, MS\, 39111\, United States
END:VEVENT
BEGIN:VEVENT
DTSTART;TZID=UTC:20280927T110000
DTEND;TZID=UTC:20280927T120000
DTSTAMP:20260420T161220
CREATED:20230901T192816Z
LAST-MODIFIED:20241122T210753Z
UID:10000634-1853665200-1853668800@www.cityofmagee.ms.gov
SUMMARY:Story Time at the library
DESCRIPTION:Reading to children helps with language development and teaches empathy and emotional awareness plus they get to sing songs and make some crafts!
URL:https://www.cityofmagee.ms.gov/event/story-time-at-the-library/2028-09-27/
LOCATION:Magee Library\, 120 First Street NW\, Magee\, MS\, 39111\, United States
END:VEVENT
BEGIN:VEVENT
DTSTART;TZID=UTC:20281003T170000
DTEND;TZID=UTC:20281003T180000
DTSTAMP:20260420T161220
CREATED:20251121T230422Z
LAST-MODIFIED:20251121T230638Z
UID:10000941-1854205200-1854208800@www.cityofmagee.ms.gov
SUMMARY:Board of Aldermen meeting
DESCRIPTION:
URL:https://www.cityofmagee.ms.gov/event/board-of-aldermen-meeting-5/2028-10-03/
LOCATION:City Hall\, 123 Main Avenue North\, Magee\, MS\, 39111\, United States
END:VEVENT
BEGIN:VEVENT
DTSTART;TZID=UTC:20281004T110000
DTEND;TZID=UTC:20281004T120000
DTSTAMP:20260420T161220
CREATED:20230901T192816Z
LAST-MODIFIED:20241122T210753Z
UID:10000635-1854270000-1854273600@www.cityofmagee.ms.gov
SUMMARY:Story Time at the library
DESCRIPTION:Reading to children helps with language development and teaches empathy and emotional awareness plus they get to sing songs and make some crafts!
URL:https://www.cityofmagee.ms.gov/event/story-time-at-the-library/2028-10-04/
LOCATION:Magee Library\, 120 First Street NW\, Magee\, MS\, 39111\, United States
END:VEVENT
BEGIN:VEVENT
DTSTART;TZID=UTC:20281011T110000
DTEND;TZID=UTC:20281011T120000
DTSTAMP:20260420T161220
CREATED:20230901T192816Z
LAST-MODIFIED:20241122T210753Z
UID:10000636-1854874800-1854878400@www.cityofmagee.ms.gov
SUMMARY:Story Time at the library
DESCRIPTION:Reading to children helps with language development and teaches empathy and emotional awareness plus they get to sing songs and make some crafts!
URL:https://www.cityofmagee.ms.gov/event/story-time-at-the-library/2028-10-11/
LOCATION:Magee Library\, 120 First Street NW\, Magee\, MS\, 39111\, United States
END:VEVENT
BEGIN:VEVENT
DTSTART;TZID=UTC:20281017T170000
DTEND;TZID=UTC:20281017T180000
DTSTAMP:20260420T161220
CREATED:20251121T230815Z
LAST-MODIFIED:20251121T230815Z
UID:10001000-1855414800-1855418400@www.cityofmagee.ms.gov
SUMMARY:Board of Aldermen meeting
DESCRIPTION:
URL:https://www.cityofmagee.ms.gov/event/board-of-aldermen-meeting-2-2-2/2028-10-17/
LOCATION:City Hall\, 123 Main Avenue North\, Magee\, MS\, 39111\, United States
END:VEVENT
BEGIN:VEVENT
DTSTART;TZID=UTC:20281018T110000
DTEND;TZID=UTC:20281018T120000
DTSTAMP:20260420T161220
CREATED:20230901T192816Z
LAST-MODIFIED:20241122T210753Z
UID:10000637-1855479600-1855483200@www.cityofmagee.ms.gov
SUMMARY:Story Time at the library
DESCRIPTION:Reading to children helps with language development and teaches empathy and emotional awareness plus they get to sing songs and make some crafts!
URL:https://www.cityofmagee.ms.gov/event/story-time-at-the-library/2028-10-18/
LOCATION:Magee Library\, 120 First Street NW\, Magee\, MS\, 39111\, United States
END:VEVENT
BEGIN:VEVENT
DTSTART;TZID=UTC:20281025T110000
DTEND;TZID=UTC:20281025T120000
DTSTAMP:20260420T161220
CREATED:20230901T192816Z
LAST-MODIFIED:20241122T210753Z
UID:10000638-1856084400-1856088000@www.cityofmagee.ms.gov
SUMMARY:Story Time at the library
DESCRIPTION:Reading to children helps with language development and teaches empathy and emotional awareness plus they get to sing songs and make some crafts!
URL:https://www.cityofmagee.ms.gov/event/story-time-at-the-library/2028-10-25/
LOCATION:Magee Library\, 120 First Street NW\, Magee\, MS\, 39111\, United States
END:VEVENT
BEGIN:VEVENT
DTSTART;TZID=UTC:20281101T110000
DTEND;TZID=UTC:20281101T120000
DTSTAMP:20260420T161220
CREATED:20230901T192816Z
LAST-MODIFIED:20241122T210753Z
UID:10000639-1856689200-1856692800@www.cityofmagee.ms.gov
SUMMARY:Story Time at the library
DESCRIPTION:Reading to children helps with language development and teaches empathy and emotional awareness plus they get to sing songs and make some crafts!
URL:https://www.cityofmagee.ms.gov/event/story-time-at-the-library/2028-11-01/
LOCATION:Magee Library\, 120 First Street NW\, Magee\, MS\, 39111\, United States
END:VEVENT
BEGIN:VEVENT
DTSTART;TZID=UTC:20281107T170000
DTEND;TZID=UTC:20281107T180000
DTSTAMP:20260420T161220
CREATED:20251121T230422Z
LAST-MODIFIED:20251121T230638Z
UID:10000942-1857229200-1857232800@www.cityofmagee.ms.gov
SUMMARY:Board of Aldermen meeting
DESCRIPTION:
URL:https://www.cityofmagee.ms.gov/event/board-of-aldermen-meeting-5/2028-11-07/
LOCATION:City Hall\, 123 Main Avenue North\, Magee\, MS\, 39111\, United States
END:VEVENT
BEGIN:VEVENT
DTSTART;TZID=UTC:20281108T110000
DTEND;TZID=UTC:20281108T120000
DTSTAMP:20260420T161220
CREATED:20230901T192816Z
LAST-MODIFIED:20241122T210753Z
UID:10000640-1857294000-1857297600@www.cityofmagee.ms.gov
SUMMARY:Story Time at the library
DESCRIPTION:Reading to children helps with language development and teaches empathy and emotional awareness plus they get to sing songs and make some crafts!
URL:https://www.cityofmagee.ms.gov/event/story-time-at-the-library/2028-11-08/
LOCATION:Magee Library\, 120 First Street NW\, Magee\, MS\, 39111\, United States
END:VEVENT
BEGIN:VEVENT
DTSTART;TZID=UTC:20281115T110000
DTEND;TZID=UTC:20281115T120000
DTSTAMP:20260420T161220
CREATED:20230901T192816Z
LAST-MODIFIED:20241122T210753Z
UID:10000641-1857898800-1857902400@www.cityofmagee.ms.gov
SUMMARY:Story Time at the library
DESCRIPTION:Reading to children helps with language development and teaches empathy and emotional awareness plus they get to sing songs and make some crafts!
URL:https://www.cityofmagee.ms.gov/event/story-time-at-the-library/2028-11-15/
LOCATION:Magee Library\, 120 First Street NW\, Magee\, MS\, 39111\, United States
END:VEVENT
BEGIN:VEVENT
DTSTART;TZID=UTC:20281121T170000
DTEND;TZID=UTC:20281121T180000
DTSTAMP:20260420T161220
CREATED:20251121T230815Z
LAST-MODIFIED:20251121T230815Z
UID:10001001-1858438800-1858442400@www.cityofmagee.ms.gov
SUMMARY:Board of Aldermen meeting
DESCRIPTION:
URL:https://www.cityofmagee.ms.gov/event/board-of-aldermen-meeting-2-2-2/2028-11-21/
LOCATION:City Hall\, 123 Main Avenue North\, Magee\, MS\, 39111\, United States
END:VEVENT
BEGIN:VEVENT
DTSTART;TZID=UTC:20281122T110000
DTEND;TZID=UTC:20281122T120000
DTSTAMP:20260420T161220
CREATED:20230901T192816Z
LAST-MODIFIED:20241122T210753Z
UID:10000642-1858503600-1858507200@www.cityofmagee.ms.gov
SUMMARY:Story Time at the library
DESCRIPTION:Reading to children helps with language development and teaches empathy and emotional awareness plus they get to sing songs and make some crafts!
URL:https://www.cityofmagee.ms.gov/event/story-time-at-the-library/2028-11-22/
LOCATION:Magee Library\, 120 First Street NW\, Magee\, MS\, 39111\, United States
END:VEVENT
END:VCALENDAR