BEGIN:VCALENDAR
VERSION:2.0
PRODID:-//City of Magee - ECPv6.14.2//NONSGML v1.0//EN
CALSCALE:GREGORIAN
METHOD:PUBLISH
X-WR-CALNAME:City of Magee
X-ORIGINAL-URL:https://www.cityofmagee.ms.gov
X-WR-CALDESC:Events for City of Magee
REFRESH-INTERVAL;VALUE=DURATION:PT1H
X-Robots-Tag:noindex
X-PUBLISHED-TTL:PT1H
BEGIN:VTIMEZONE
TZID:UTC
BEGIN:STANDARD
TZOFFSETFROM:+0000
TZOFFSETTO:+0000
TZNAME:UTC
DTSTART:20280101T000000
END:STANDARD
END:VTIMEZONE
BEGIN:VEVENT
DTSTART;TZID=UTC:20281129T110000
DTEND;TZID=UTC:20281129T120000
DTSTAMP:20260421T174619
CREATED:20230901T192816Z
LAST-MODIFIED:20241122T210753Z
UID:10000643-1859108400-1859112000@www.cityofmagee.ms.gov
SUMMARY:Story Time at the library
DESCRIPTION:Reading to children helps with language development and teaches empathy and emotional awareness plus they get to sing songs and make some crafts!
URL:https://www.cityofmagee.ms.gov/event/story-time-at-the-library/2028-11-29/
LOCATION:Magee Library\, 120 First Street NW\, Magee\, MS\, 39111\, United States
END:VEVENT
BEGIN:VEVENT
DTSTART;TZID=UTC:20281205T170000
DTEND;TZID=UTC:20281205T180000
DTSTAMP:20260421T174619
CREATED:20251121T230422Z
LAST-MODIFIED:20251121T230638Z
UID:10000943-1859648400-1859652000@www.cityofmagee.ms.gov
SUMMARY:Board of Aldermen meeting
DESCRIPTION:
URL:https://www.cityofmagee.ms.gov/event/board-of-aldermen-meeting-5/2028-12-05/
LOCATION:City Hall\, 123 Main Avenue North\, Magee\, MS\, 39111\, United States
END:VEVENT
BEGIN:VEVENT
DTSTART;TZID=UTC:20281206T110000
DTEND;TZID=UTC:20281206T120000
DTSTAMP:20260421T174619
CREATED:20230901T192816Z
LAST-MODIFIED:20241122T210753Z
UID:10000644-1859713200-1859716800@www.cityofmagee.ms.gov
SUMMARY:Story Time at the library
DESCRIPTION:Reading to children helps with language development and teaches empathy and emotional awareness plus they get to sing songs and make some crafts!
URL:https://www.cityofmagee.ms.gov/event/story-time-at-the-library/2028-12-06/
LOCATION:Magee Library\, 120 First Street NW\, Magee\, MS\, 39111\, United States
END:VEVENT
BEGIN:VEVENT
DTSTART;TZID=UTC:20281213T110000
DTEND;TZID=UTC:20281213T120000
DTSTAMP:20260421T174619
CREATED:20230901T192816Z
LAST-MODIFIED:20241122T210753Z
UID:10000645-1860318000-1860321600@www.cityofmagee.ms.gov
SUMMARY:Story Time at the library
DESCRIPTION:Reading to children helps with language development and teaches empathy and emotional awareness plus they get to sing songs and make some crafts!
URL:https://www.cityofmagee.ms.gov/event/story-time-at-the-library/2028-12-13/
LOCATION:Magee Library\, 120 First Street NW\, Magee\, MS\, 39111\, United States
END:VEVENT
BEGIN:VEVENT
DTSTART;TZID=UTC:20281219T170000
DTEND;TZID=UTC:20281219T180000
DTSTAMP:20260421T174619
CREATED:20251121T230815Z
LAST-MODIFIED:20251121T230815Z
UID:10001002-1860858000-1860861600@www.cityofmagee.ms.gov
SUMMARY:Board of Aldermen meeting
DESCRIPTION:
URL:https://www.cityofmagee.ms.gov/event/board-of-aldermen-meeting-2-2-2/2028-12-19/
LOCATION:City Hall\, 123 Main Avenue North\, Magee\, MS\, 39111\, United States
END:VEVENT
BEGIN:VEVENT
DTSTART;TZID=UTC:20281220T110000
DTEND;TZID=UTC:20281220T120000
DTSTAMP:20260421T174619
CREATED:20230901T192816Z
LAST-MODIFIED:20241122T210753Z
UID:10000646-1860922800-1860926400@www.cityofmagee.ms.gov
SUMMARY:Story Time at the library
DESCRIPTION:Reading to children helps with language development and teaches empathy and emotional awareness plus they get to sing songs and make some crafts!
URL:https://www.cityofmagee.ms.gov/event/story-time-at-the-library/2028-12-20/
LOCATION:Magee Library\, 120 First Street NW\, Magee\, MS\, 39111\, United States
END:VEVENT
BEGIN:VEVENT
DTSTART;TZID=UTC:20281227T110000
DTEND;TZID=UTC:20281227T120000
DTSTAMP:20260421T174619
CREATED:20230901T192816Z
LAST-MODIFIED:20241122T210753Z
UID:10000647-1861527600-1861531200@www.cityofmagee.ms.gov
SUMMARY:Story Time at the library
DESCRIPTION:Reading to children helps with language development and teaches empathy and emotional awareness plus they get to sing songs and make some crafts!
URL:https://www.cityofmagee.ms.gov/event/story-time-at-the-library/2028-12-27/
LOCATION:Magee Library\, 120 First Street NW\, Magee\, MS\, 39111\, United States
END:VEVENT
BEGIN:VEVENT
DTSTART;TZID=UTC:20290102T170000
DTEND;TZID=UTC:20290102T180000
DTSTAMP:20260421T174619
CREATED:20251121T230422Z
LAST-MODIFIED:20251121T230638Z
UID:10000944-1862067600-1862071200@www.cityofmagee.ms.gov
SUMMARY:Board of Aldermen meeting
DESCRIPTION:
URL:https://www.cityofmagee.ms.gov/event/board-of-aldermen-meeting-5/2029-01-02/
LOCATION:City Hall\, 123 Main Avenue North\, Magee\, MS\, 39111\, United States
END:VEVENT
BEGIN:VEVENT
DTSTART;TZID=UTC:20290103T110000
DTEND;TZID=UTC:20290103T120000
DTSTAMP:20260421T174619
CREATED:20230901T192816Z
LAST-MODIFIED:20241122T210753Z
UID:10000648-1862132400-1862136000@www.cityofmagee.ms.gov
SUMMARY:Story Time at the library
DESCRIPTION:Reading to children helps with language development and teaches empathy and emotional awareness plus they get to sing songs and make some crafts!
URL:https://www.cityofmagee.ms.gov/event/story-time-at-the-library/2029-01-03/
LOCATION:Magee Library\, 120 First Street NW\, Magee\, MS\, 39111\, United States
END:VEVENT
BEGIN:VEVENT
DTSTART;TZID=UTC:20290110T110000
DTEND;TZID=UTC:20290110T120000
DTSTAMP:20260421T174619
CREATED:20230901T192816Z
LAST-MODIFIED:20241122T210753Z
UID:10000649-1862737200-1862740800@www.cityofmagee.ms.gov
SUMMARY:Story Time at the library
DESCRIPTION:Reading to children helps with language development and teaches empathy and emotional awareness plus they get to sing songs and make some crafts!
URL:https://www.cityofmagee.ms.gov/event/story-time-at-the-library/2029-01-10/
LOCATION:Magee Library\, 120 First Street NW\, Magee\, MS\, 39111\, United States
END:VEVENT
BEGIN:VEVENT
DTSTART;TZID=UTC:20290116T170000
DTEND;TZID=UTC:20290116T180000
DTSTAMP:20260421T174619
CREATED:20251121T230815Z
LAST-MODIFIED:20251121T230815Z
UID:10001003-1863277200-1863280800@www.cityofmagee.ms.gov
SUMMARY:Board of Aldermen meeting
DESCRIPTION:
URL:https://www.cityofmagee.ms.gov/event/board-of-aldermen-meeting-2-2-2/2029-01-16/
LOCATION:City Hall\, 123 Main Avenue North\, Magee\, MS\, 39111\, United States
END:VEVENT
BEGIN:VEVENT
DTSTART;TZID=UTC:20290117T110000
DTEND;TZID=UTC:20290117T120000
DTSTAMP:20260421T174619
CREATED:20230901T192816Z
LAST-MODIFIED:20241122T210753Z
UID:10000650-1863342000-1863345600@www.cityofmagee.ms.gov
SUMMARY:Story Time at the library
DESCRIPTION:Reading to children helps with language development and teaches empathy and emotional awareness plus they get to sing songs and make some crafts!
URL:https://www.cityofmagee.ms.gov/event/story-time-at-the-library/2029-01-17/
LOCATION:Magee Library\, 120 First Street NW\, Magee\, MS\, 39111\, United States
END:VEVENT
BEGIN:VEVENT
DTSTART;TZID=UTC:20290124T110000
DTEND;TZID=UTC:20290124T120000
DTSTAMP:20260421T174619
CREATED:20230901T192816Z
LAST-MODIFIED:20241122T210753Z
UID:10000651-1863946800-1863950400@www.cityofmagee.ms.gov
SUMMARY:Story Time at the library
DESCRIPTION:Reading to children helps with language development and teaches empathy and emotional awareness plus they get to sing songs and make some crafts!
URL:https://www.cityofmagee.ms.gov/event/story-time-at-the-library/2029-01-24/
LOCATION:Magee Library\, 120 First Street NW\, Magee\, MS\, 39111\, United States
END:VEVENT
BEGIN:VEVENT
DTSTART;TZID=UTC:20290131T110000
DTEND;TZID=UTC:20290131T120000
DTSTAMP:20260421T174619
CREATED:20230901T192816Z
LAST-MODIFIED:20241122T210753Z
UID:10000652-1864551600-1864555200@www.cityofmagee.ms.gov
SUMMARY:Story Time at the library
DESCRIPTION:Reading to children helps with language development and teaches empathy and emotional awareness plus they get to sing songs and make some crafts!
URL:https://www.cityofmagee.ms.gov/event/story-time-at-the-library/2029-01-31/
LOCATION:Magee Library\, 120 First Street NW\, Magee\, MS\, 39111\, United States
END:VEVENT
BEGIN:VEVENT
DTSTART;TZID=UTC:20290206T170000
DTEND;TZID=UTC:20290206T180000
DTSTAMP:20260421T174619
CREATED:20251121T230422Z
LAST-MODIFIED:20251121T230638Z
UID:10000945-1865091600-1865095200@www.cityofmagee.ms.gov
SUMMARY:Board of Aldermen meeting
DESCRIPTION:
URL:https://www.cityofmagee.ms.gov/event/board-of-aldermen-meeting-5/2029-02-06/
LOCATION:City Hall\, 123 Main Avenue North\, Magee\, MS\, 39111\, United States
END:VEVENT
BEGIN:VEVENT
DTSTART;TZID=UTC:20290207T110000
DTEND;TZID=UTC:20290207T120000
DTSTAMP:20260421T174619
CREATED:20230901T192816Z
LAST-MODIFIED:20241122T210753Z
UID:10000653-1865156400-1865160000@www.cityofmagee.ms.gov
SUMMARY:Story Time at the library
DESCRIPTION:Reading to children helps with language development and teaches empathy and emotional awareness plus they get to sing songs and make some crafts!
URL:https://www.cityofmagee.ms.gov/event/story-time-at-the-library/2029-02-07/
LOCATION:Magee Library\, 120 First Street NW\, Magee\, MS\, 39111\, United States
END:VEVENT
BEGIN:VEVENT
DTSTART;TZID=UTC:20290214T110000
DTEND;TZID=UTC:20290214T120000
DTSTAMP:20260421T174619
CREATED:20230901T192816Z
LAST-MODIFIED:20241122T210753Z
UID:10000654-1865761200-1865764800@www.cityofmagee.ms.gov
SUMMARY:Story Time at the library
DESCRIPTION:Reading to children helps with language development and teaches empathy and emotional awareness plus they get to sing songs and make some crafts!
URL:https://www.cityofmagee.ms.gov/event/story-time-at-the-library/2029-02-14/
LOCATION:Magee Library\, 120 First Street NW\, Magee\, MS\, 39111\, United States
END:VEVENT
BEGIN:VEVENT
DTSTART;TZID=UTC:20290220T170000
DTEND;TZID=UTC:20290220T180000
DTSTAMP:20260421T174619
CREATED:20251121T230815Z
LAST-MODIFIED:20251121T230815Z
UID:10001004-1866301200-1866304800@www.cityofmagee.ms.gov
SUMMARY:Board of Aldermen meeting
DESCRIPTION:
URL:https://www.cityofmagee.ms.gov/event/board-of-aldermen-meeting-2-2-2/2029-02-20/
LOCATION:City Hall\, 123 Main Avenue North\, Magee\, MS\, 39111\, United States
END:VEVENT
BEGIN:VEVENT
DTSTART;TZID=UTC:20290221T110000
DTEND;TZID=UTC:20290221T120000
DTSTAMP:20260421T174619
CREATED:20230901T192816Z
LAST-MODIFIED:20241122T210753Z
UID:10000655-1866366000-1866369600@www.cityofmagee.ms.gov
SUMMARY:Story Time at the library
DESCRIPTION:Reading to children helps with language development and teaches empathy and emotional awareness plus they get to sing songs and make some crafts!
URL:https://www.cityofmagee.ms.gov/event/story-time-at-the-library/2029-02-21/
LOCATION:Magee Library\, 120 First Street NW\, Magee\, MS\, 39111\, United States
END:VEVENT
BEGIN:VEVENT
DTSTART;TZID=UTC:20290228T110000
DTEND;TZID=UTC:20290228T120000
DTSTAMP:20260421T174619
CREATED:20230901T192816Z
LAST-MODIFIED:20241122T210753Z
UID:10000656-1866970800-1866974400@www.cityofmagee.ms.gov
SUMMARY:Story Time at the library
DESCRIPTION:Reading to children helps with language development and teaches empathy and emotional awareness plus they get to sing songs and make some crafts!
URL:https://www.cityofmagee.ms.gov/event/story-time-at-the-library/2029-02-28/
LOCATION:Magee Library\, 120 First Street NW\, Magee\, MS\, 39111\, United States
END:VEVENT
BEGIN:VEVENT
DTSTART;TZID=UTC:20290306T170000
DTEND;TZID=UTC:20290306T180000
DTSTAMP:20260421T174619
CREATED:20251121T230422Z
LAST-MODIFIED:20251121T230638Z
UID:10000946-1867510800-1867514400@www.cityofmagee.ms.gov
SUMMARY:Board of Aldermen meeting
DESCRIPTION:
URL:https://www.cityofmagee.ms.gov/event/board-of-aldermen-meeting-5/2029-03-06/
LOCATION:City Hall\, 123 Main Avenue North\, Magee\, MS\, 39111\, United States
END:VEVENT
BEGIN:VEVENT
DTSTART;TZID=UTC:20290307T110000
DTEND;TZID=UTC:20290307T120000
DTSTAMP:20260421T174619
CREATED:20230901T192816Z
LAST-MODIFIED:20241122T210753Z
UID:10000657-1867575600-1867579200@www.cityofmagee.ms.gov
SUMMARY:Story Time at the library
DESCRIPTION:Reading to children helps with language development and teaches empathy and emotional awareness plus they get to sing songs and make some crafts!
URL:https://www.cityofmagee.ms.gov/event/story-time-at-the-library/2029-03-07/
LOCATION:Magee Library\, 120 First Street NW\, Magee\, MS\, 39111\, United States
END:VEVENT
BEGIN:VEVENT
DTSTART;TZID=UTC:20290314T110000
DTEND;TZID=UTC:20290314T120000
DTSTAMP:20260421T174619
CREATED:20230901T192816Z
LAST-MODIFIED:20241122T210753Z
UID:10000658-1868180400-1868184000@www.cityofmagee.ms.gov
SUMMARY:Story Time at the library
DESCRIPTION:Reading to children helps with language development and teaches empathy and emotional awareness plus they get to sing songs and make some crafts!
URL:https://www.cityofmagee.ms.gov/event/story-time-at-the-library/2029-03-14/
LOCATION:Magee Library\, 120 First Street NW\, Magee\, MS\, 39111\, United States
END:VEVENT
BEGIN:VEVENT
DTSTART;TZID=UTC:20290320T170000
DTEND;TZID=UTC:20290320T180000
DTSTAMP:20260421T174619
CREATED:20251121T230815Z
LAST-MODIFIED:20251121T230815Z
UID:10001005-1868720400-1868724000@www.cityofmagee.ms.gov
SUMMARY:Board of Aldermen meeting
DESCRIPTION:
URL:https://www.cityofmagee.ms.gov/event/board-of-aldermen-meeting-2-2-2/2029-03-20/
LOCATION:City Hall\, 123 Main Avenue North\, Magee\, MS\, 39111\, United States
END:VEVENT
BEGIN:VEVENT
DTSTART;TZID=UTC:20290321T110000
DTEND;TZID=UTC:20290321T120000
DTSTAMP:20260421T174619
CREATED:20230901T192816Z
LAST-MODIFIED:20241122T210753Z
UID:10000659-1868785200-1868788800@www.cityofmagee.ms.gov
SUMMARY:Story Time at the library
DESCRIPTION:Reading to children helps with language development and teaches empathy and emotional awareness plus they get to sing songs and make some crafts!
URL:https://www.cityofmagee.ms.gov/event/story-time-at-the-library/2029-03-21/
LOCATION:Magee Library\, 120 First Street NW\, Magee\, MS\, 39111\, United States
END:VEVENT
BEGIN:VEVENT
DTSTART;TZID=UTC:20290328T110000
DTEND;TZID=UTC:20290328T120000
DTSTAMP:20260421T174619
CREATED:20230901T192816Z
LAST-MODIFIED:20241122T210753Z
UID:10000660-1869390000-1869393600@www.cityofmagee.ms.gov
SUMMARY:Story Time at the library
DESCRIPTION:Reading to children helps with language development and teaches empathy and emotional awareness plus they get to sing songs and make some crafts!
URL:https://www.cityofmagee.ms.gov/event/story-time-at-the-library/2029-03-28/
LOCATION:Magee Library\, 120 First Street NW\, Magee\, MS\, 39111\, United States
END:VEVENT
BEGIN:VEVENT
DTSTART;TZID=UTC:20290403T170000
DTEND;TZID=UTC:20290403T180000
DTSTAMP:20260421T174619
CREATED:20251121T230422Z
LAST-MODIFIED:20251121T230638Z
UID:10000947-1869930000-1869933600@www.cityofmagee.ms.gov
SUMMARY:Board of Aldermen meeting
DESCRIPTION:
URL:https://www.cityofmagee.ms.gov/event/board-of-aldermen-meeting-5/2029-04-03/
LOCATION:City Hall\, 123 Main Avenue North\, Magee\, MS\, 39111\, United States
END:VEVENT
BEGIN:VEVENT
DTSTART;TZID=UTC:20290404T110000
DTEND;TZID=UTC:20290404T120000
DTSTAMP:20260421T174619
CREATED:20230901T192816Z
LAST-MODIFIED:20241122T210753Z
UID:10000661-1869994800-1869998400@www.cityofmagee.ms.gov
SUMMARY:Story Time at the library
DESCRIPTION:Reading to children helps with language development and teaches empathy and emotional awareness plus they get to sing songs and make some crafts!
URL:https://www.cityofmagee.ms.gov/event/story-time-at-the-library/2029-04-04/
LOCATION:Magee Library\, 120 First Street NW\, Magee\, MS\, 39111\, United States
END:VEVENT
BEGIN:VEVENT
DTSTART;TZID=UTC:20290411T110000
DTEND;TZID=UTC:20290411T120000
DTSTAMP:20260421T174619
CREATED:20230901T192816Z
LAST-MODIFIED:20241122T210753Z
UID:10000662-1870599600-1870603200@www.cityofmagee.ms.gov
SUMMARY:Story Time at the library
DESCRIPTION:Reading to children helps with language development and teaches empathy and emotional awareness plus they get to sing songs and make some crafts!
URL:https://www.cityofmagee.ms.gov/event/story-time-at-the-library/2029-04-11/
LOCATION:Magee Library\, 120 First Street NW\, Magee\, MS\, 39111\, United States
END:VEVENT
BEGIN:VEVENT
DTSTART;TZID=UTC:20290417T170000
DTEND;TZID=UTC:20290417T180000
DTSTAMP:20260421T174619
CREATED:20251121T230815Z
LAST-MODIFIED:20251121T230815Z
UID:10001006-1871139600-1871143200@www.cityofmagee.ms.gov
SUMMARY:Board of Aldermen meeting
DESCRIPTION:
URL:https://www.cityofmagee.ms.gov/event/board-of-aldermen-meeting-2-2-2/2029-04-17/
LOCATION:City Hall\, 123 Main Avenue North\, Magee\, MS\, 39111\, United States
END:VEVENT
END:VCALENDAR