BEGIN:VCALENDAR
VERSION:2.0
PRODID:-//City of Magee - ECPv6.14.2//NONSGML v1.0//EN
CALSCALE:GREGORIAN
METHOD:PUBLISH
X-WR-CALNAME:City of Magee
X-ORIGINAL-URL:https://www.cityofmagee.ms.gov
X-WR-CALDESC:Events for City of Magee
REFRESH-INTERVAL;VALUE=DURATION:PT1H
X-Robots-Tag:noindex
X-PUBLISHED-TTL:PT1H
BEGIN:VTIMEZONE
TZID:UTC
BEGIN:STANDARD
TZOFFSETFROM:+0000
TZOFFSETTO:+0000
TZNAME:UTC
DTSTART:20290101T000000
END:STANDARD
END:VTIMEZONE
BEGIN:VEVENT
DTSTART;TZID=UTC:20290606T110000
DTEND;TZID=UTC:20290606T120000
DTSTAMP:20260422T114419
CREATED:20230901T192816Z
LAST-MODIFIED:20241122T210753Z
UID:10000670-1875438000-1875441600@www.cityofmagee.ms.gov
SUMMARY:Story Time at the library
DESCRIPTION:Reading to children helps with language development and teaches empathy and emotional awareness plus they get to sing songs and make some crafts!
URL:https://www.cityofmagee.ms.gov/event/story-time-at-the-library/2029-06-06/
LOCATION:Magee Library\, 120 First Street NW\, Magee\, MS\, 39111\, United States
END:VEVENT
BEGIN:VEVENT
DTSTART;TZID=UTC:20290613T110000
DTEND;TZID=UTC:20290613T120000
DTSTAMP:20260422T114419
CREATED:20230901T192816Z
LAST-MODIFIED:20241122T210753Z
UID:10000671-1876042800-1876046400@www.cityofmagee.ms.gov
SUMMARY:Story Time at the library
DESCRIPTION:Reading to children helps with language development and teaches empathy and emotional awareness plus they get to sing songs and make some crafts!
URL:https://www.cityofmagee.ms.gov/event/story-time-at-the-library/2029-06-13/
LOCATION:Magee Library\, 120 First Street NW\, Magee\, MS\, 39111\, United States
END:VEVENT
BEGIN:VEVENT
DTSTART;TZID=UTC:20290619T170000
DTEND;TZID=UTC:20290619T180000
DTSTAMP:20260422T114419
CREATED:20251121T230815Z
LAST-MODIFIED:20251121T230815Z
UID:10001008-1876582800-1876586400@www.cityofmagee.ms.gov
SUMMARY:Board of Aldermen meeting
DESCRIPTION:
URL:https://www.cityofmagee.ms.gov/event/board-of-aldermen-meeting-2-2-2/2029-06-19/
LOCATION:City Hall\, 123 Main Avenue North\, Magee\, MS\, 39111\, United States
END:VEVENT
BEGIN:VEVENT
DTSTART;TZID=UTC:20290620T110000
DTEND;TZID=UTC:20290620T120000
DTSTAMP:20260422T114419
CREATED:20230901T192816Z
LAST-MODIFIED:20241122T210753Z
UID:10000672-1876647600-1876651200@www.cityofmagee.ms.gov
SUMMARY:Story Time at the library
DESCRIPTION:Reading to children helps with language development and teaches empathy and emotional awareness plus they get to sing songs and make some crafts!
URL:https://www.cityofmagee.ms.gov/event/story-time-at-the-library/2029-06-20/
LOCATION:Magee Library\, 120 First Street NW\, Magee\, MS\, 39111\, United States
END:VEVENT
BEGIN:VEVENT
DTSTART;TZID=UTC:20290627T110000
DTEND;TZID=UTC:20290627T120000
DTSTAMP:20260422T114419
CREATED:20230901T192816Z
LAST-MODIFIED:20241122T210753Z
UID:10000673-1877252400-1877256000@www.cityofmagee.ms.gov
SUMMARY:Story Time at the library
DESCRIPTION:Reading to children helps with language development and teaches empathy and emotional awareness plus they get to sing songs and make some crafts!
URL:https://www.cityofmagee.ms.gov/event/story-time-at-the-library/2029-06-27/
LOCATION:Magee Library\, 120 First Street NW\, Magee\, MS\, 39111\, United States
END:VEVENT
BEGIN:VEVENT
DTSTART;TZID=UTC:20290703T170000
DTEND;TZID=UTC:20290703T180000
DTSTAMP:20260422T114419
CREATED:20251121T230422Z
LAST-MODIFIED:20251121T230638Z
UID:10000950-1877792400-1877796000@www.cityofmagee.ms.gov
SUMMARY:Board of Aldermen meeting
DESCRIPTION:
URL:https://www.cityofmagee.ms.gov/event/board-of-aldermen-meeting-5/2029-07-03/
LOCATION:City Hall\, 123 Main Avenue North\, Magee\, MS\, 39111\, United States
END:VEVENT
BEGIN:VEVENT
DTSTART;TZID=UTC:20290704T110000
DTEND;TZID=UTC:20290704T120000
DTSTAMP:20260422T114419
CREATED:20230901T192816Z
LAST-MODIFIED:20241122T210753Z
UID:10000674-1877857200-1877860800@www.cityofmagee.ms.gov
SUMMARY:Story Time at the library
DESCRIPTION:Reading to children helps with language development and teaches empathy and emotional awareness plus they get to sing songs and make some crafts!
URL:https://www.cityofmagee.ms.gov/event/story-time-at-the-library/2029-07-04/
LOCATION:Magee Library\, 120 First Street NW\, Magee\, MS\, 39111\, United States
END:VEVENT
BEGIN:VEVENT
DTSTART;TZID=UTC:20290711T110000
DTEND;TZID=UTC:20290711T120000
DTSTAMP:20260422T114419
CREATED:20230901T192816Z
LAST-MODIFIED:20241122T210753Z
UID:10000675-1878462000-1878465600@www.cityofmagee.ms.gov
SUMMARY:Story Time at the library
DESCRIPTION:Reading to children helps with language development and teaches empathy and emotional awareness plus they get to sing songs and make some crafts!
URL:https://www.cityofmagee.ms.gov/event/story-time-at-the-library/2029-07-11/
LOCATION:Magee Library\, 120 First Street NW\, Magee\, MS\, 39111\, United States
END:VEVENT
BEGIN:VEVENT
DTSTART;TZID=UTC:20290717T170000
DTEND;TZID=UTC:20290717T180000
DTSTAMP:20260422T114419
CREATED:20251121T230815Z
LAST-MODIFIED:20251121T230815Z
UID:10001009-1879002000-1879005600@www.cityofmagee.ms.gov
SUMMARY:Board of Aldermen meeting
DESCRIPTION:
URL:https://www.cityofmagee.ms.gov/event/board-of-aldermen-meeting-2-2-2/2029-07-17/
LOCATION:City Hall\, 123 Main Avenue North\, Magee\, MS\, 39111\, United States
END:VEVENT
BEGIN:VEVENT
DTSTART;TZID=UTC:20290718T110000
DTEND;TZID=UTC:20290718T120000
DTSTAMP:20260422T114419
CREATED:20230901T192816Z
LAST-MODIFIED:20241122T210753Z
UID:10000676-1879066800-1879070400@www.cityofmagee.ms.gov
SUMMARY:Story Time at the library
DESCRIPTION:Reading to children helps with language development and teaches empathy and emotional awareness plus they get to sing songs and make some crafts!
URL:https://www.cityofmagee.ms.gov/event/story-time-at-the-library/2029-07-18/
LOCATION:Magee Library\, 120 First Street NW\, Magee\, MS\, 39111\, United States
END:VEVENT
BEGIN:VEVENT
DTSTART;TZID=UTC:20290725T110000
DTEND;TZID=UTC:20290725T120000
DTSTAMP:20260422T114419
CREATED:20230901T192816Z
LAST-MODIFIED:20241122T210753Z
UID:10000677-1879671600-1879675200@www.cityofmagee.ms.gov
SUMMARY:Story Time at the library
DESCRIPTION:Reading to children helps with language development and teaches empathy and emotional awareness plus they get to sing songs and make some crafts!
URL:https://www.cityofmagee.ms.gov/event/story-time-at-the-library/2029-07-25/
LOCATION:Magee Library\, 120 First Street NW\, Magee\, MS\, 39111\, United States
END:VEVENT
BEGIN:VEVENT
DTSTART;TZID=UTC:20290801T110000
DTEND;TZID=UTC:20290801T120000
DTSTAMP:20260422T114419
CREATED:20230901T192816Z
LAST-MODIFIED:20241122T210753Z
UID:10000678-1880276400-1880280000@www.cityofmagee.ms.gov
SUMMARY:Story Time at the library
DESCRIPTION:Reading to children helps with language development and teaches empathy and emotional awareness plus they get to sing songs and make some crafts!
URL:https://www.cityofmagee.ms.gov/event/story-time-at-the-library/2029-08-01/
LOCATION:Magee Library\, 120 First Street NW\, Magee\, MS\, 39111\, United States
END:VEVENT
BEGIN:VEVENT
DTSTART;TZID=UTC:20290807T170000
DTEND;TZID=UTC:20290807T180000
DTSTAMP:20260422T114419
CREATED:20251121T230422Z
LAST-MODIFIED:20251121T230638Z
UID:10000951-1880816400-1880820000@www.cityofmagee.ms.gov
SUMMARY:Board of Aldermen meeting
DESCRIPTION:
URL:https://www.cityofmagee.ms.gov/event/board-of-aldermen-meeting-5/2029-08-07/
LOCATION:City Hall\, 123 Main Avenue North\, Magee\, MS\, 39111\, United States
END:VEVENT
BEGIN:VEVENT
DTSTART;TZID=UTC:20290808T110000
DTEND;TZID=UTC:20290808T120000
DTSTAMP:20260422T114419
CREATED:20230901T192816Z
LAST-MODIFIED:20241122T210753Z
UID:10000679-1880881200-1880884800@www.cityofmagee.ms.gov
SUMMARY:Story Time at the library
DESCRIPTION:Reading to children helps with language development and teaches empathy and emotional awareness plus they get to sing songs and make some crafts!
URL:https://www.cityofmagee.ms.gov/event/story-time-at-the-library/2029-08-08/
LOCATION:Magee Library\, 120 First Street NW\, Magee\, MS\, 39111\, United States
END:VEVENT
BEGIN:VEVENT
DTSTART;TZID=UTC:20290815T110000
DTEND;TZID=UTC:20290815T120000
DTSTAMP:20260422T114419
CREATED:20230901T192816Z
LAST-MODIFIED:20241122T210753Z
UID:10000680-1881486000-1881489600@www.cityofmagee.ms.gov
SUMMARY:Story Time at the library
DESCRIPTION:Reading to children helps with language development and teaches empathy and emotional awareness plus they get to sing songs and make some crafts!
URL:https://www.cityofmagee.ms.gov/event/story-time-at-the-library/2029-08-15/
LOCATION:Magee Library\, 120 First Street NW\, Magee\, MS\, 39111\, United States
END:VEVENT
BEGIN:VEVENT
DTSTART;TZID=UTC:20290821T170000
DTEND;TZID=UTC:20290821T180000
DTSTAMP:20260422T114419
CREATED:20251121T230815Z
LAST-MODIFIED:20251121T230815Z
UID:10001010-1882026000-1882029600@www.cityofmagee.ms.gov
SUMMARY:Board of Aldermen meeting
DESCRIPTION:
URL:https://www.cityofmagee.ms.gov/event/board-of-aldermen-meeting-2-2-2/2029-08-21/
LOCATION:City Hall\, 123 Main Avenue North\, Magee\, MS\, 39111\, United States
END:VEVENT
BEGIN:VEVENT
DTSTART;TZID=UTC:20290822T110000
DTEND;TZID=UTC:20290822T120000
DTSTAMP:20260422T114419
CREATED:20230901T192816Z
LAST-MODIFIED:20241122T210753Z
UID:10000681-1882090800-1882094400@www.cityofmagee.ms.gov
SUMMARY:Story Time at the library
DESCRIPTION:Reading to children helps with language development and teaches empathy and emotional awareness plus they get to sing songs and make some crafts!
URL:https://www.cityofmagee.ms.gov/event/story-time-at-the-library/2029-08-22/
LOCATION:Magee Library\, 120 First Street NW\, Magee\, MS\, 39111\, United States
END:VEVENT
BEGIN:VEVENT
DTSTART;TZID=UTC:20290829T110000
DTEND;TZID=UTC:20290829T120000
DTSTAMP:20260422T114419
CREATED:20230901T192816Z
LAST-MODIFIED:20241122T210753Z
UID:10000682-1882695600-1882699200@www.cityofmagee.ms.gov
SUMMARY:Story Time at the library
DESCRIPTION:Reading to children helps with language development and teaches empathy and emotional awareness plus they get to sing songs and make some crafts!
URL:https://www.cityofmagee.ms.gov/event/story-time-at-the-library/2029-08-29/
LOCATION:Magee Library\, 120 First Street NW\, Magee\, MS\, 39111\, United States
END:VEVENT
BEGIN:VEVENT
DTSTART;TZID=UTC:20290904T170000
DTEND;TZID=UTC:20290904T180000
DTSTAMP:20260422T114419
CREATED:20251121T230422Z
LAST-MODIFIED:20251121T230638Z
UID:10000952-1883235600-1883239200@www.cityofmagee.ms.gov
SUMMARY:Board of Aldermen meeting
DESCRIPTION:
URL:https://www.cityofmagee.ms.gov/event/board-of-aldermen-meeting-5/2029-09-04/
LOCATION:City Hall\, 123 Main Avenue North\, Magee\, MS\, 39111\, United States
END:VEVENT
BEGIN:VEVENT
DTSTART;TZID=UTC:20290905T110000
DTEND;TZID=UTC:20290905T120000
DTSTAMP:20260422T114419
CREATED:20230901T192816Z
LAST-MODIFIED:20241122T210753Z
UID:10000683-1883300400-1883304000@www.cityofmagee.ms.gov
SUMMARY:Story Time at the library
DESCRIPTION:Reading to children helps with language development and teaches empathy and emotional awareness plus they get to sing songs and make some crafts!
URL:https://www.cityofmagee.ms.gov/event/story-time-at-the-library/2029-09-05/
LOCATION:Magee Library\, 120 First Street NW\, Magee\, MS\, 39111\, United States
END:VEVENT
BEGIN:VEVENT
DTSTART;TZID=UTC:20290912T110000
DTEND;TZID=UTC:20290912T120000
DTSTAMP:20260422T114419
CREATED:20230901T192816Z
LAST-MODIFIED:20241122T210753Z
UID:10000684-1883905200-1883908800@www.cityofmagee.ms.gov
SUMMARY:Story Time at the library
DESCRIPTION:Reading to children helps with language development and teaches empathy and emotional awareness plus they get to sing songs and make some crafts!
URL:https://www.cityofmagee.ms.gov/event/story-time-at-the-library/2029-09-12/
LOCATION:Magee Library\, 120 First Street NW\, Magee\, MS\, 39111\, United States
END:VEVENT
BEGIN:VEVENT
DTSTART;TZID=UTC:20290918T170000
DTEND;TZID=UTC:20290918T180000
DTSTAMP:20260422T114419
CREATED:20251121T230815Z
LAST-MODIFIED:20251121T230815Z
UID:10001011-1884445200-1884448800@www.cityofmagee.ms.gov
SUMMARY:Board of Aldermen meeting
DESCRIPTION:
URL:https://www.cityofmagee.ms.gov/event/board-of-aldermen-meeting-2-2-2/2029-09-18/
LOCATION:City Hall\, 123 Main Avenue North\, Magee\, MS\, 39111\, United States
END:VEVENT
BEGIN:VEVENT
DTSTART;TZID=UTC:20290919T110000
DTEND;TZID=UTC:20290919T120000
DTSTAMP:20260422T114419
CREATED:20230901T192816Z
LAST-MODIFIED:20241122T210753Z
UID:10000685-1884510000-1884513600@www.cityofmagee.ms.gov
SUMMARY:Story Time at the library
DESCRIPTION:Reading to children helps with language development and teaches empathy and emotional awareness plus they get to sing songs and make some crafts!
URL:https://www.cityofmagee.ms.gov/event/story-time-at-the-library/2029-09-19/
LOCATION:Magee Library\, 120 First Street NW\, Magee\, MS\, 39111\, United States
END:VEVENT
BEGIN:VEVENT
DTSTART;TZID=UTC:20290926T110000
DTEND;TZID=UTC:20290926T120000
DTSTAMP:20260422T114419
CREATED:20230901T192816Z
LAST-MODIFIED:20241122T210753Z
UID:10000686-1885114800-1885118400@www.cityofmagee.ms.gov
SUMMARY:Story Time at the library
DESCRIPTION:Reading to children helps with language development and teaches empathy and emotional awareness plus they get to sing songs and make some crafts!
URL:https://www.cityofmagee.ms.gov/event/story-time-at-the-library/2029-09-26/
LOCATION:Magee Library\, 120 First Street NW\, Magee\, MS\, 39111\, United States
END:VEVENT
BEGIN:VEVENT
DTSTART;TZID=UTC:20291002T170000
DTEND;TZID=UTC:20291002T180000
DTSTAMP:20260422T114419
CREATED:20251121T230422Z
LAST-MODIFIED:20251121T230638Z
UID:10000953-1885654800-1885658400@www.cityofmagee.ms.gov
SUMMARY:Board of Aldermen meeting
DESCRIPTION:
URL:https://www.cityofmagee.ms.gov/event/board-of-aldermen-meeting-5/2029-10-02/
LOCATION:City Hall\, 123 Main Avenue North\, Magee\, MS\, 39111\, United States
END:VEVENT
BEGIN:VEVENT
DTSTART;TZID=UTC:20291003T110000
DTEND;TZID=UTC:20291003T120000
DTSTAMP:20260422T114419
CREATED:20230901T192816Z
LAST-MODIFIED:20241122T210753Z
UID:10000687-1885719600-1885723200@www.cityofmagee.ms.gov
SUMMARY:Story Time at the library
DESCRIPTION:Reading to children helps with language development and teaches empathy and emotional awareness plus they get to sing songs and make some crafts!
URL:https://www.cityofmagee.ms.gov/event/story-time-at-the-library/2029-10-03/
LOCATION:Magee Library\, 120 First Street NW\, Magee\, MS\, 39111\, United States
END:VEVENT
BEGIN:VEVENT
DTSTART;TZID=UTC:20291010T110000
DTEND;TZID=UTC:20291010T120000
DTSTAMP:20260422T114419
CREATED:20230901T192816Z
LAST-MODIFIED:20241122T210753Z
UID:10000688-1886324400-1886328000@www.cityofmagee.ms.gov
SUMMARY:Story Time at the library
DESCRIPTION:Reading to children helps with language development and teaches empathy and emotional awareness plus they get to sing songs and make some crafts!
URL:https://www.cityofmagee.ms.gov/event/story-time-at-the-library/2029-10-10/
LOCATION:Magee Library\, 120 First Street NW\, Magee\, MS\, 39111\, United States
END:VEVENT
BEGIN:VEVENT
DTSTART;TZID=UTC:20291016T170000
DTEND;TZID=UTC:20291016T180000
DTSTAMP:20260422T114419
CREATED:20251121T230815Z
LAST-MODIFIED:20251121T230815Z
UID:10001012-1886864400-1886868000@www.cityofmagee.ms.gov
SUMMARY:Board of Aldermen meeting
DESCRIPTION:
URL:https://www.cityofmagee.ms.gov/event/board-of-aldermen-meeting-2-2-2/2029-10-16/
LOCATION:City Hall\, 123 Main Avenue North\, Magee\, MS\, 39111\, United States
END:VEVENT
BEGIN:VEVENT
DTSTART;TZID=UTC:20291017T110000
DTEND;TZID=UTC:20291017T120000
DTSTAMP:20260422T114419
CREATED:20230901T192816Z
LAST-MODIFIED:20241122T210753Z
UID:10000689-1886929200-1886932800@www.cityofmagee.ms.gov
SUMMARY:Story Time at the library
DESCRIPTION:Reading to children helps with language development and teaches empathy and emotional awareness plus they get to sing songs and make some crafts!
URL:https://www.cityofmagee.ms.gov/event/story-time-at-the-library/2029-10-17/
LOCATION:Magee Library\, 120 First Street NW\, Magee\, MS\, 39111\, United States
END:VEVENT
BEGIN:VEVENT
DTSTART;TZID=UTC:20291024T110000
DTEND;TZID=UTC:20291024T120000
DTSTAMP:20260422T114419
CREATED:20230901T192816Z
LAST-MODIFIED:20241122T210753Z
UID:10000690-1887534000-1887537600@www.cityofmagee.ms.gov
SUMMARY:Story Time at the library
DESCRIPTION:Reading to children helps with language development and teaches empathy and emotional awareness plus they get to sing songs and make some crafts!
URL:https://www.cityofmagee.ms.gov/event/story-time-at-the-library/2029-10-24/
LOCATION:Magee Library\, 120 First Street NW\, Magee\, MS\, 39111\, United States
END:VEVENT
END:VCALENDAR