BEGIN:VCALENDAR
VERSION:2.0
PRODID:-//City of Magee - ECPv6.14.2//NONSGML v1.0//EN
CALSCALE:GREGORIAN
METHOD:PUBLISH
X-WR-CALNAME:City of Magee
X-ORIGINAL-URL:https://www.cityofmagee.ms.gov
X-WR-CALDESC:Events for City of Magee
REFRESH-INTERVAL;VALUE=DURATION:PT1H
X-Robots-Tag:noindex
X-PUBLISHED-TTL:PT1H
BEGIN:VTIMEZONE
TZID:UTC
BEGIN:STANDARD
TZOFFSETFROM:+0000
TZOFFSETTO:+0000
TZNAME:UTC
DTSTART:20240101T000000
END:STANDARD
END:VTIMEZONE
BEGIN:VEVENT
DTSTART;TZID=UTC:20240309T110000
DTEND;TZID=UTC:20240309T130000
DTSTAMP:20260426T040905
CREATED:20240227T181001Z
LAST-MODIFIED:20240227T181023Z
UID:10000556-1709982000-1709989200@www.cityofmagee.ms.gov
SUMMARY:Adopt-a-Street Cleanup
DESCRIPTION:The City of Magee will kick off the Adopt-a-Street program today from 11 AM to 1 PM at various locations throughout the city. For more information\, call 601-382-0446.
URL:https://www.cityofmagee.ms.gov/event/adopt-a-street-cleanup/
LOCATION:City Hall\, 123 Main Avenue North\, Magee\, MS\, 39111\, United States
END:VEVENT
BEGIN:VEVENT
DTSTART;TZID=UTC:20240306T110000
DTEND;TZID=UTC:20240306T120000
DTSTAMP:20260426T040905
CREATED:20230901T192816Z
LAST-MODIFIED:20241122T210753Z
UID:10000029-1709722800-1709726400@www.cityofmagee.ms.gov
SUMMARY:Story Time at the library
DESCRIPTION:Reading to children helps with language development and teaches empathy and emotional awareness plus they get to sing songs and make some crafts!
URL:https://www.cityofmagee.ms.gov/event/story-time-at-the-library/2024-03-06/
LOCATION:Magee Library\, 120 First Street NW\, Magee\, MS\, 39111\, United States
END:VEVENT
BEGIN:VEVENT
DTSTART;TZID=UTC:20240305T180000
DTEND;TZID=UTC:20240305T180000
DTSTAMP:20260426T040905
CREATED:20230823T142532Z
LAST-MODIFIED:20230906T142332Z
UID:10000270-1709661600-1709661600@www.cityofmagee.ms.gov
SUMMARY:Board of Aldermen meeting
DESCRIPTION:
URL:https://www.cityofmagee.ms.gov/event/board-of-aldermen-meeting/2024-03-05/
LOCATION:City Hall\, 123 Main Avenue North\, Magee\, MS\, 39111\, United States
END:VEVENT
BEGIN:VEVENT
DTSTART;TZID=UTC:20240304T180000
DTEND;TZID=UTC:20240304T190000
DTSTAMP:20260426T040905
CREATED:20240221T150551Z
LAST-MODIFIED:20240221T171632Z
UID:10000551-1709575200-1709578800@www.cityofmagee.ms.gov
SUMMARY:Town Hall Meeting
DESCRIPTION:The public is invited to the first of a series of town hall meetings in March at City Hall\, from 6 PM to 7 PM. Come and learn about new developments in the City!
URL:https://www.cityofmagee.ms.gov/event/town-hall-meeting/
LOCATION:City Hall\, 123 Main Avenue North\, Magee\, MS\, 39111\, United States
END:VEVENT
BEGIN:VEVENT
DTSTART;TZID=UTC:20240304T120000
DTEND;TZID=UTC:20240304T120000
DTSTAMP:20260426T040905
CREATED:20230906T143828Z
LAST-MODIFIED:20230906T144229Z
UID:10000449-1709553600-1709553600@www.cityofmagee.ms.gov
SUMMARY:Lions Club Meeting
DESCRIPTION:
URL:https://www.cityofmagee.ms.gov/event/lions-club-meeting/2024-03-04/
LOCATION:Berry’s Seafood and Catfish House\, 1616 US 49\, Magee\, MS\, 39111\, United States
END:VEVENT
BEGIN:VEVENT
DTSTART;TZID=UTC:20240228T110000
DTEND;TZID=UTC:20240228T120000
DTSTAMP:20260426T040905
CREATED:20230901T192816Z
LAST-MODIFIED:20241122T210753Z
UID:10000028-1709118000-1709121600@www.cityofmagee.ms.gov
SUMMARY:Story Time at the library
DESCRIPTION:Reading to children helps with language development and teaches empathy and emotional awareness plus they get to sing songs and make some crafts!
URL:https://www.cityofmagee.ms.gov/event/story-time-at-the-library/2024-02-28/
LOCATION:Magee Library\, 120 First Street NW\, Magee\, MS\, 39111\, United States
END:VEVENT
BEGIN:VEVENT
DTSTART;TZID=UTC:20240227T170000
DTEND;TZID=UTC:20240227T180000
DTSTAMP:20260426T040905
CREATED:20240207T153617Z
LAST-MODIFIED:20240207T153629Z
UID:10000533-1709053200-1709056800@www.cityofmagee.ms.gov
SUMMARY:Airport Board Meeting
DESCRIPTION:The Magee Airport Board will hold its monthly meeting on 2/27/2024 at City Hall in the Courtroom.
URL:https://www.cityofmagee.ms.gov/event/airport-board-meeting/
LOCATION:City Hall\, 123 Main Avenue North\, Magee\, MS\, 39111\, United States
END:VEVENT
BEGIN:VEVENT
DTSTART;TZID=UTC:20240221T110000
DTEND;TZID=UTC:20240221T120000
DTSTAMP:20260426T040905
CREATED:20230901T192816Z
LAST-MODIFIED:20241122T210753Z
UID:10000027-1708513200-1708516800@www.cityofmagee.ms.gov
SUMMARY:Story Time at the library
DESCRIPTION:Reading to children helps with language development and teaches empathy and emotional awareness plus they get to sing songs and make some crafts!
URL:https://www.cityofmagee.ms.gov/event/story-time-at-the-library/2024-02-21/
LOCATION:Magee Library\, 120 First Street NW\, Magee\, MS\, 39111\, United States
END:VEVENT
BEGIN:VEVENT
DTSTART;TZID=UTC:20240220T180000
DTEND;TZID=UTC:20240220T180000
DTSTAMP:20260426T040905
CREATED:20230823T143558Z
LAST-MODIFIED:20230906T142415Z
UID:10000329-1708452000-1708452000@www.cityofmagee.ms.gov
SUMMARY:Board of Aldermen meeting
DESCRIPTION:
URL:https://www.cityofmagee.ms.gov/event/board-of-aldermen-meeting-2/2024-02-20/
LOCATION:City Hall\, 123 Main Avenue North\, Magee\, MS\, 39111\, United States
END:VEVENT
BEGIN:VEVENT
DTSTART;VALUE=DATE:20240219
DTEND;VALUE=DATE:20240220
DTSTAMP:20260426T040905
CREATED:20240216T185835Z
LAST-MODIFIED:20240216T185918Z
UID:10000550-1708300800-1708387199@www.cityofmagee.ms.gov
SUMMARY:Revised Garbage Schedule
DESCRIPTION:Due to the President’s Day holiday\, Monday garbage pickup will be on Tuesday\, Tuesday’s garbage pickup will be on Wednesday\, and Thursday/Friday schedule will be regularly scheduled.
URL:https://www.cityofmagee.ms.gov/event/revised-garbage-schedule/
LOCATION:City Hall\, 123 Main Avenue North\, Magee\, MS\, 39111\, United States
END:VEVENT
BEGIN:VEVENT
DTSTART;VALUE=DATE:20240219
DTEND;VALUE=DATE:20240220
DTSTAMP:20260426T040905
CREATED:20240215T180832Z
LAST-MODIFIED:20240215T181028Z
UID:10000548-1708300800-1708387199@www.cityofmagee.ms.gov
SUMMARY:City Hall Closed
DESCRIPTION:City Hall is closed today for President’s Day.
URL:https://www.cityofmagee.ms.gov/event/city-hall-closed-5/
LOCATION:City Hall\, 123 Main Avenue North\, Magee\, MS\, 39111\, United States
END:VEVENT
BEGIN:VEVENT
DTSTART;VALUE=DATE:20240217
DTEND;VALUE=DATE:20240218
DTSTAMP:20260426T040905
CREATED:20240207T225613Z
LAST-MODIFIED:20240207T225627Z
UID:10000547-1708128000-1708214399@www.cityofmagee.ms.gov
SUMMARY:Mobile Home Awareness Day
DESCRIPTION:Today is a good day to learn about mobile homes and severe weather: Mobile Homes
URL:https://www.cityofmagee.ms.gov/event/mobile-home-awareness-day/
LOCATION:MS
END:VEVENT
BEGIN:VEVENT
DTSTART;VALUE=DATE:20240216
DTEND;VALUE=DATE:20240217
DTSTAMP:20260426T040905
CREATED:20240207T225303Z
LAST-MODIFIED:20240207T225316Z
UID:10000546-1708041600-1708127999@www.cityofmagee.ms.gov
SUMMARY:Alerts and Warnings Awareness Day
DESCRIPTION:Today is a good day to review severe weather alerts and warnings: A Guide for Alerts and Warnings
URL:https://www.cityofmagee.ms.gov/event/alerts-and-warnings-awareness-day/
LOCATION:MS
END:VEVENT
BEGIN:VEVENT
DTSTART;TZID=UTC:20240215T164500
DTEND;TZID=UTC:20240215T180000
DTSTAMP:20260426T040905
CREATED:20240215T181139Z
LAST-MODIFIED:20240215T181139Z
UID:10000549-1708015500-1708020000@www.cityofmagee.ms.gov
SUMMARY:Airport Board Meeting
DESCRIPTION:The Airport Board will meet today at 4:45 at City Hall.
URL:https://www.cityofmagee.ms.gov/event/airport-board-meeting-3/
LOCATION:City Hall\, 123 Main Avenue North\, Magee\, MS\, 39111\, United States
END:VEVENT
BEGIN:VEVENT
DTSTART;VALUE=DATE:20240215
DTEND;VALUE=DATE:20240216
DTSTAMP:20260426T040905
CREATED:20240207T225039Z
LAST-MODIFIED:20240207T225058Z
UID:10000545-1707955200-1708041599@www.cityofmagee.ms.gov
SUMMARY:Lightning Awareness Day
DESCRIPTION:Today is lightning awareness day: BE PREPARED FOR A THUNDERSTORM\, LIGHTNING\, OR HAIL
URL:https://www.cityofmagee.ms.gov/event/lightning-awareness-day/
LOCATION:MS
END:VEVENT
BEGIN:VEVENT
DTSTART;TZID=UTC:20240214T110000
DTEND;TZID=UTC:20240214T120000
DTSTAMP:20260426T040905
CREATED:20230901T192816Z
LAST-MODIFIED:20241122T210753Z
UID:10000026-1707908400-1707912000@www.cityofmagee.ms.gov
SUMMARY:Story Time at the library
DESCRIPTION:Reading to children helps with language development and teaches empathy and emotional awareness plus they get to sing songs and make some crafts!
URL:https://www.cityofmagee.ms.gov/event/story-time-at-the-library/2024-02-14/
LOCATION:Magee Library\, 120 First Street NW\, Magee\, MS\, 39111\, United States
END:VEVENT
BEGIN:VEVENT
DTSTART;VALUE=DATE:20240214
DTEND;VALUE=DATE:20240215
DTSTAMP:20260426T040905
CREATED:20240207T224904Z
LAST-MODIFIED:20240207T224918Z
UID:10000544-1707868800-1707955199@www.cityofmagee.ms.gov
SUMMARY:Tornadoes Awareness Day
DESCRIPTION:Today is tornadoes awareness day. BE PREPARED FOR A TORNADO
URL:https://www.cityofmagee.ms.gov/event/tornadoes-awareness-day/
LOCATION:MS
END:VEVENT
BEGIN:VEVENT
DTSTART;TZID=UTC:20240213T173000
DTEND;TZID=UTC:20240213T193000
DTSTAMP:20260426T040905
CREATED:20240124T214058Z
LAST-MODIFIED:20240124T214058Z
UID:10000532-1707845400-1707852600@www.cityofmagee.ms.gov
SUMMARY:Zoning Board Hearing
DESCRIPTION:The Zoning Board will hold its monthly meeting in addition to a hearing to consider a request for a dimensional variance on Feb. 13\, 2024\, at 5:30 P.M. at City Hall. The public is invited.
URL:https://www.cityofmagee.ms.gov/event/zoning-board-hearing-2/
LOCATION:City Hall\, 123 Main Avenue North\, Magee\, MS\, 39111\, United States
END:VEVENT
BEGIN:VEVENT
DTSTART;VALUE=DATE:20240213
DTEND;VALUE=DATE:20240214
DTSTAMP:20260426T040905
CREATED:20240207T224704Z
LAST-MODIFIED:20240207T224718Z
UID:10000543-1707782400-1707868799@www.cityofmagee.ms.gov
SUMMARY:Flash Flooding Awareness Day
DESCRIPTION:Today is Flash Flooding Awareness Day BE PREPARED FOR A FLOOD
URL:https://www.cityofmagee.ms.gov/event/flash-flooding-awareness-day/
LOCATION:MS
END:VEVENT
BEGIN:VEVENT
DTSTART;TZID=UTC:20240212T120000
DTEND;TZID=UTC:20240212T120000
DTSTAMP:20260426T040905
CREATED:20230906T144119Z
LAST-MODIFIED:20230906T144119Z
UID:10000389-1707739200-1707739200@www.cityofmagee.ms.gov
SUMMARY:Lions Club Meeting
DESCRIPTION:
URL:https://www.cityofmagee.ms.gov/event/lions-club-meeting-2/2024-02-12/
LOCATION:Berry’s Seafood and Catfish House\, 1616 US 49\, Magee\, MS\, 39111\, United States
END:VEVENT
BEGIN:VEVENT
DTSTART;VALUE=DATE:20240212
DTEND;VALUE=DATE:20240213
DTSTAMP:20260426T040905
CREATED:20240207T224523Z
LAST-MODIFIED:20240207T224536Z
UID:10000542-1707696000-1707782399@www.cityofmagee.ms.gov
SUMMARY:Severe Thunderstorms Awareness Day
DESCRIPTION:Today is Severe Thunderstorms Awareness Day. BE PREPARED FOR A THUNDERSTORM\, LIGHTNING\, OR HAIL
URL:https://www.cityofmagee.ms.gov/event/severe-thunderstorms-awareness-day/
LOCATION:MS
END:VEVENT
BEGIN:VEVENT
DTSTART;VALUE=DATE:20240211
DTEND;VALUE=DATE:20240212
DTSTAMP:20260426T040905
CREATED:20240207T224251Z
LAST-MODIFIED:20240207T224328Z
UID:10000541-1707609600-1707695999@www.cityofmagee.ms.gov
SUMMARY:Spring Severe Weather Preparedness Week Begins
DESCRIPTION:Sunday\, 2/11/2024\, begins Spring Severe Weather Preparedness Week. Today’s theme is MAKE A PLAN! https://www.msema.org/governor-reeves-declares-february-11-17-as-spring-severe-weather-preparedness-week/
URL:https://www.cityofmagee.ms.gov/event/spring-severe-weather-preparedness-week-begins/
LOCATION:MS
END:VEVENT
BEGIN:VEVENT
DTSTART;TZID=UTC:20240207T110000
DTEND;TZID=UTC:20240207T120000
DTSTAMP:20260426T040905
CREATED:20230901T192816Z
LAST-MODIFIED:20241122T210753Z
UID:10000025-1707303600-1707307200@www.cityofmagee.ms.gov
SUMMARY:Story Time at the library
DESCRIPTION:Reading to children helps with language development and teaches empathy and emotional awareness plus they get to sing songs and make some crafts!
URL:https://www.cityofmagee.ms.gov/event/story-time-at-the-library/2024-02-07/
LOCATION:Magee Library\, 120 First Street NW\, Magee\, MS\, 39111\, United States
END:VEVENT
BEGIN:VEVENT
DTSTART;TZID=UTC:20240206T180000
DTEND;TZID=UTC:20240206T180000
DTSTAMP:20260426T040905
CREATED:20230823T142532Z
LAST-MODIFIED:20230906T142332Z
UID:10000269-1707242400-1707242400@www.cityofmagee.ms.gov
SUMMARY:Board of Aldermen meeting
DESCRIPTION:
URL:https://www.cityofmagee.ms.gov/event/board-of-aldermen-meeting/2024-02-06/
LOCATION:City Hall\, 123 Main Avenue North\, Magee\, MS\, 39111\, United States
END:VEVENT
BEGIN:VEVENT
DTSTART;TZID=UTC:20240205T120000
DTEND;TZID=UTC:20240205T120000
DTSTAMP:20260426T040905
CREATED:20230906T143828Z
LAST-MODIFIED:20230906T144229Z
UID:10000448-1707134400-1707134400@www.cityofmagee.ms.gov
SUMMARY:Lions Club Meeting
DESCRIPTION:
URL:https://www.cityofmagee.ms.gov/event/lions-club-meeting/2024-02-05/
LOCATION:Berry’s Seafood and Catfish House\, 1616 US 49\, Magee\, MS\, 39111\, United States
END:VEVENT
BEGIN:VEVENT
DTSTART;TZID=UTC:20240131T110000
DTEND;TZID=UTC:20240131T120000
DTSTAMP:20260426T040905
CREATED:20230901T192816Z
LAST-MODIFIED:20241122T210753Z
UID:10000024-1706698800-1706702400@www.cityofmagee.ms.gov
SUMMARY:Story Time at the library
DESCRIPTION:Reading to children helps with language development and teaches empathy and emotional awareness plus they get to sing songs and make some crafts!
URL:https://www.cityofmagee.ms.gov/event/story-time-at-the-library/2024-01-31/
LOCATION:Magee Library\, 120 First Street NW\, Magee\, MS\, 39111\, United States
END:VEVENT
BEGIN:VEVENT
DTSTART;VALUE=DATE:20240127
DTEND;VALUE=DATE:20240128
DTSTAMP:20260426T040905
CREATED:20231215T175725Z
LAST-MODIFIED:20231215T175725Z
UID:10000518-1706313600-1706399999@www.cityofmagee.ms.gov
SUMMARY:Bicentennial Kick-off
DESCRIPTION:The Simpson County Bicentennial Kick-off will be held on January 27\, 2024\, in Mendenhall\, MS.
URL:https://www.cityofmagee.ms.gov/event/bicentennial-kick-off/
LOCATION:Simpson County Courthouse\, Mendenhall\, MS\, 39114\, United States
END:VEVENT
BEGIN:VEVENT
DTSTART;TZID=UTC:20240124T110000
DTEND;TZID=UTC:20240124T120000
DTSTAMP:20260426T040905
CREATED:20230901T192816Z
LAST-MODIFIED:20241122T210753Z
UID:10000023-1706094000-1706097600@www.cityofmagee.ms.gov
SUMMARY:Story Time at the library
DESCRIPTION:Reading to children helps with language development and teaches empathy and emotional awareness plus they get to sing songs and make some crafts!
URL:https://www.cityofmagee.ms.gov/event/story-time-at-the-library/2024-01-24/
LOCATION:Magee Library\, 120 First Street NW\, Magee\, MS\, 39111\, United States
END:VEVENT
BEGIN:VEVENT
DTSTART;TZID=UTC:20240117T180000
DTEND;TZID=UTC:20240117T193000
DTSTAMP:20260426T040905
CREATED:20240117T232847Z
LAST-MODIFIED:20240117T232945Z
UID:10000531-1705514400-1705519800@www.cityofmagee.ms.gov
SUMMARY:Board of Aldermen Meeting
DESCRIPTION:The Board of Aldermen meeting that was scheduled for Tuesday\, January 16\, 2024\, has been rescheduled to January 17\, 2024.
URL:https://www.cityofmagee.ms.gov/event/board-of-aldermen-meeting-3/
LOCATION:City Hall\, 123 Main Avenue North\, Magee\, MS\, 39111\, United States
END:VEVENT
BEGIN:VEVENT
DTSTART;TZID=UTC:20240117T110000
DTEND;TZID=UTC:20240117T120000
DTSTAMP:20260426T040905
CREATED:20230901T192816Z
LAST-MODIFIED:20241122T210753Z
UID:10000022-1705489200-1705492800@www.cityofmagee.ms.gov
SUMMARY:Story Time at the library
DESCRIPTION:Reading to children helps with language development and teaches empathy and emotional awareness plus they get to sing songs and make some crafts!
URL:https://www.cityofmagee.ms.gov/event/story-time-at-the-library/2024-01-17/
LOCATION:Magee Library\, 120 First Street NW\, Magee\, MS\, 39111\, United States
END:VEVENT
END:VCALENDAR