BEGIN:VCALENDAR
VERSION:2.0
PRODID:-//City of Magee - ECPv6.14.2//NONSGML v1.0//EN
CALSCALE:GREGORIAN
METHOD:PUBLISH
X-ORIGINAL-URL:https://www.cityofmagee.ms.gov
X-WR-CALDESC:Events for City of Magee
REFRESH-INTERVAL;VALUE=DURATION:PT1H
X-Robots-Tag:noindex
X-PUBLISHED-TTL:PT1H
BEGIN:VTIMEZONE
TZID:UTC
BEGIN:STANDARD
TZOFFSETFROM:+0000
TZOFFSETTO:+0000
TZNAME:UTC
DTSTART:20290101T000000
END:STANDARD
END:VTIMEZONE
BEGIN:VEVENT
DTSTART;TZID=UTC:20291031T110000
DTEND;TZID=UTC:20291031T120000
DTSTAMP:20260422T205919
CREATED:20230901T192816Z
LAST-MODIFIED:20241122T210753Z
UID:10000691-1888138800-1888142400@www.cityofmagee.ms.gov
SUMMARY:Story Time at the library
DESCRIPTION:Reading to children helps with language development and teaches empathy and emotional awareness plus they get to sing songs and make some crafts!
URL:https://www.cityofmagee.ms.gov/event/story-time-at-the-library/2029-10-31/
LOCATION:Magee Library\, 120 First Street NW\, Magee\, MS\, 39111\, United States
END:VEVENT
BEGIN:VEVENT
DTSTART;TZID=UTC:20291106T170000
DTEND;TZID=UTC:20291106T180000
DTSTAMP:20260422T205919
CREATED:20251121T230422Z
LAST-MODIFIED:20251121T230638Z
UID:10000954-1888678800-1888682400@www.cityofmagee.ms.gov
SUMMARY:Board of Aldermen meeting
DESCRIPTION:
URL:https://www.cityofmagee.ms.gov/event/board-of-aldermen-meeting-5/2029-11-06/
LOCATION:City Hall\, 123 Main Avenue North\, Magee\, MS\, 39111\, United States
END:VEVENT
BEGIN:VEVENT
DTSTART;TZID=UTC:20291107T110000
DTEND;TZID=UTC:20291107T120000
DTSTAMP:20260422T205919
CREATED:20230901T192816Z
LAST-MODIFIED:20241122T210753Z
UID:10000692-1888743600-1888747200@www.cityofmagee.ms.gov
SUMMARY:Story Time at the library
DESCRIPTION:Reading to children helps with language development and teaches empathy and emotional awareness plus they get to sing songs and make some crafts!
URL:https://www.cityofmagee.ms.gov/event/story-time-at-the-library/2029-11-07/
LOCATION:Magee Library\, 120 First Street NW\, Magee\, MS\, 39111\, United States
END:VEVENT
BEGIN:VEVENT
DTSTART;TZID=UTC:20291114T110000
DTEND;TZID=UTC:20291114T120000
DTSTAMP:20260422T205919
CREATED:20230901T192816Z
LAST-MODIFIED:20241122T210753Z
UID:10000693-1889348400-1889352000@www.cityofmagee.ms.gov
SUMMARY:Story Time at the library
DESCRIPTION:Reading to children helps with language development and teaches empathy and emotional awareness plus they get to sing songs and make some crafts!
URL:https://www.cityofmagee.ms.gov/event/story-time-at-the-library/2029-11-14/
LOCATION:Magee Library\, 120 First Street NW\, Magee\, MS\, 39111\, United States
END:VEVENT
BEGIN:VEVENT
DTSTART;TZID=UTC:20291120T170000
DTEND;TZID=UTC:20291120T180000
DTSTAMP:20260422T205919
CREATED:20251121T230815Z
LAST-MODIFIED:20251121T230815Z
UID:10001013-1889888400-1889892000@www.cityofmagee.ms.gov
SUMMARY:Board of Aldermen meeting
DESCRIPTION:
URL:https://www.cityofmagee.ms.gov/event/board-of-aldermen-meeting-2-2-2/2029-11-20/
LOCATION:City Hall\, 123 Main Avenue North\, Magee\, MS\, 39111\, United States
END:VEVENT
BEGIN:VEVENT
DTSTART;TZID=UTC:20291121T110000
DTEND;TZID=UTC:20291121T120000
DTSTAMP:20260422T205919
CREATED:20230901T192816Z
LAST-MODIFIED:20241122T210753Z
UID:10000694-1889953200-1889956800@www.cityofmagee.ms.gov
SUMMARY:Story Time at the library
DESCRIPTION:Reading to children helps with language development and teaches empathy and emotional awareness plus they get to sing songs and make some crafts!
URL:https://www.cityofmagee.ms.gov/event/story-time-at-the-library/2029-11-21/
LOCATION:Magee Library\, 120 First Street NW\, Magee\, MS\, 39111\, United States
END:VEVENT
BEGIN:VEVENT
DTSTART;TZID=UTC:20291204T170000
DTEND;TZID=UTC:20291204T180000
DTSTAMP:20260422T205919
CREATED:20251121T230422Z
LAST-MODIFIED:20251121T230638Z
UID:10000955-1891098000-1891101600@www.cityofmagee.ms.gov
SUMMARY:Board of Aldermen meeting
DESCRIPTION:
URL:https://www.cityofmagee.ms.gov/event/board-of-aldermen-meeting-5/2029-12-04/
LOCATION:City Hall\, 123 Main Avenue North\, Magee\, MS\, 39111\, United States
END:VEVENT
BEGIN:VEVENT
DTSTART;TZID=UTC:20291218T170000
DTEND;TZID=UTC:20291218T180000
DTSTAMP:20260422T205919
CREATED:20251121T230815Z
LAST-MODIFIED:20251121T230815Z
UID:10001014-1892307600-1892311200@www.cityofmagee.ms.gov
SUMMARY:Board of Aldermen meeting
DESCRIPTION:
URL:https://www.cityofmagee.ms.gov/event/board-of-aldermen-meeting-2-2-2/2029-12-18/
LOCATION:City Hall\, 123 Main Avenue North\, Magee\, MS\, 39111\, United States
END:VEVENT
BEGIN:VEVENT
DTSTART;TZID=UTC:20300101T170000
DTEND;TZID=UTC:20300101T180000
DTSTAMP:20260422T205919
CREATED:20251121T230422Z
LAST-MODIFIED:20251121T230638Z
UID:10000956-1893517200-1893520800@www.cityofmagee.ms.gov
SUMMARY:Board of Aldermen meeting
DESCRIPTION:
URL:https://www.cityofmagee.ms.gov/event/board-of-aldermen-meeting-5/2030-01-01/
LOCATION:City Hall\, 123 Main Avenue North\, Magee\, MS\, 39111\, United States
END:VEVENT
BEGIN:VEVENT
DTSTART;TZID=UTC:20300115T170000
DTEND;TZID=UTC:20300115T180000
DTSTAMP:20260422T205919
CREATED:20251121T230815Z
LAST-MODIFIED:20251121T230815Z
UID:10001015-1894726800-1894730400@www.cityofmagee.ms.gov
SUMMARY:Board of Aldermen meeting
DESCRIPTION:
URL:https://www.cityofmagee.ms.gov/event/board-of-aldermen-meeting-2-2-2/2030-01-15/
LOCATION:City Hall\, 123 Main Avenue North\, Magee\, MS\, 39111\, United States
END:VEVENT
BEGIN:VEVENT
DTSTART;TZID=UTC:20300205T170000
DTEND;TZID=UTC:20300205T180000
DTSTAMP:20260422T205919
CREATED:20251121T230422Z
LAST-MODIFIED:20251121T230638Z
UID:10000957-1896541200-1896544800@www.cityofmagee.ms.gov
SUMMARY:Board of Aldermen meeting
DESCRIPTION:
URL:https://www.cityofmagee.ms.gov/event/board-of-aldermen-meeting-5/2030-02-05/
LOCATION:City Hall\, 123 Main Avenue North\, Magee\, MS\, 39111\, United States
END:VEVENT
BEGIN:VEVENT
DTSTART;TZID=UTC:20300219T170000
DTEND;TZID=UTC:20300219T180000
DTSTAMP:20260422T205919
CREATED:20251121T230815Z
LAST-MODIFIED:20251121T230815Z
UID:10001016-1897750800-1897754400@www.cityofmagee.ms.gov
SUMMARY:Board of Aldermen meeting
DESCRIPTION:
URL:https://www.cityofmagee.ms.gov/event/board-of-aldermen-meeting-2-2-2/2030-02-19/
LOCATION:City Hall\, 123 Main Avenue North\, Magee\, MS\, 39111\, United States
END:VEVENT
BEGIN:VEVENT
DTSTART;TZID=UTC:20300305T170000
DTEND;TZID=UTC:20300305T180000
DTSTAMP:20260422T205919
CREATED:20251121T230422Z
LAST-MODIFIED:20251121T230638Z
UID:10000958-1898960400-1898964000@www.cityofmagee.ms.gov
SUMMARY:Board of Aldermen meeting
DESCRIPTION:
URL:https://www.cityofmagee.ms.gov/event/board-of-aldermen-meeting-5/2030-03-05/
LOCATION:City Hall\, 123 Main Avenue North\, Magee\, MS\, 39111\, United States
END:VEVENT
BEGIN:VEVENT
DTSTART;TZID=UTC:20300319T170000
DTEND;TZID=UTC:20300319T180000
DTSTAMP:20260422T205919
CREATED:20251121T230815Z
LAST-MODIFIED:20251121T230815Z
UID:10001017-1900170000-1900173600@www.cityofmagee.ms.gov
SUMMARY:Board of Aldermen meeting
DESCRIPTION:
URL:https://www.cityofmagee.ms.gov/event/board-of-aldermen-meeting-2-2-2/2030-03-19/
LOCATION:City Hall\, 123 Main Avenue North\, Magee\, MS\, 39111\, United States
END:VEVENT
BEGIN:VEVENT
DTSTART;TZID=UTC:20300402T170000
DTEND;TZID=UTC:20300402T180000
DTSTAMP:20260422T205919
CREATED:20251121T230422Z
LAST-MODIFIED:20251121T230638Z
UID:10000959-1901379600-1901383200@www.cityofmagee.ms.gov
SUMMARY:Board of Aldermen meeting
DESCRIPTION:
URL:https://www.cityofmagee.ms.gov/event/board-of-aldermen-meeting-5/2030-04-02/
LOCATION:City Hall\, 123 Main Avenue North\, Magee\, MS\, 39111\, United States
END:VEVENT
BEGIN:VEVENT
DTSTART;TZID=UTC:20300416T170000
DTEND;TZID=UTC:20300416T180000
DTSTAMP:20260422T205919
CREATED:20251121T230815Z
LAST-MODIFIED:20251121T230815Z
UID:10001018-1902589200-1902592800@www.cityofmagee.ms.gov
SUMMARY:Board of Aldermen meeting
DESCRIPTION:
URL:https://www.cityofmagee.ms.gov/event/board-of-aldermen-meeting-2-2-2/2030-04-16/
LOCATION:City Hall\, 123 Main Avenue North\, Magee\, MS\, 39111\, United States
END:VEVENT
BEGIN:VEVENT
DTSTART;TZID=UTC:20300507T170000
DTEND;TZID=UTC:20300507T180000
DTSTAMP:20260422T205919
CREATED:20251121T230422Z
LAST-MODIFIED:20251121T230638Z
UID:10000960-1904403600-1904407200@www.cityofmagee.ms.gov
SUMMARY:Board of Aldermen meeting
DESCRIPTION:
URL:https://www.cityofmagee.ms.gov/event/board-of-aldermen-meeting-5/2030-05-07/
LOCATION:City Hall\, 123 Main Avenue North\, Magee\, MS\, 39111\, United States
END:VEVENT
BEGIN:VEVENT
DTSTART;TZID=UTC:20300521T170000
DTEND;TZID=UTC:20300521T180000
DTSTAMP:20260422T205919
CREATED:20251121T230815Z
LAST-MODIFIED:20251121T230815Z
UID:10001019-1905613200-1905616800@www.cityofmagee.ms.gov
SUMMARY:Board of Aldermen meeting
DESCRIPTION:
URL:https://www.cityofmagee.ms.gov/event/board-of-aldermen-meeting-2-2-2/2030-05-21/
LOCATION:City Hall\, 123 Main Avenue North\, Magee\, MS\, 39111\, United States
END:VEVENT
BEGIN:VEVENT
DTSTART;TZID=UTC:20300604T170000
DTEND;TZID=UTC:20300604T180000
DTSTAMP:20260422T205919
CREATED:20251121T230422Z
LAST-MODIFIED:20251121T230638Z
UID:10000961-1906822800-1906826400@www.cityofmagee.ms.gov
SUMMARY:Board of Aldermen meeting
DESCRIPTION:
URL:https://www.cityofmagee.ms.gov/event/board-of-aldermen-meeting-5/2030-06-04/
LOCATION:City Hall\, 123 Main Avenue North\, Magee\, MS\, 39111\, United States
END:VEVENT
BEGIN:VEVENT
DTSTART;TZID=UTC:20300618T170000
DTEND;TZID=UTC:20300618T180000
DTSTAMP:20260422T205919
CREATED:20251121T230815Z
LAST-MODIFIED:20251121T230815Z
UID:10001020-1908032400-1908036000@www.cityofmagee.ms.gov
SUMMARY:Board of Aldermen meeting
DESCRIPTION:
URL:https://www.cityofmagee.ms.gov/event/board-of-aldermen-meeting-2-2-2/2030-06-18/
LOCATION:City Hall\, 123 Main Avenue North\, Magee\, MS\, 39111\, United States
END:VEVENT
BEGIN:VEVENT
DTSTART;TZID=UTC:20300702T170000
DTEND;TZID=UTC:20300702T180000
DTSTAMP:20260422T205919
CREATED:20251121T230422Z
LAST-MODIFIED:20251121T230638Z
UID:10000962-1909242000-1909245600@www.cityofmagee.ms.gov
SUMMARY:Board of Aldermen meeting
DESCRIPTION:
URL:https://www.cityofmagee.ms.gov/event/board-of-aldermen-meeting-5/2030-07-02/
LOCATION:City Hall\, 123 Main Avenue North\, Magee\, MS\, 39111\, United States
END:VEVENT
BEGIN:VEVENT
DTSTART;TZID=UTC:20300716T170000
DTEND;TZID=UTC:20300716T180000
DTSTAMP:20260422T205919
CREATED:20251121T230815Z
LAST-MODIFIED:20251121T230815Z
UID:10001021-1910451600-1910455200@www.cityofmagee.ms.gov
SUMMARY:Board of Aldermen meeting
DESCRIPTION:
URL:https://www.cityofmagee.ms.gov/event/board-of-aldermen-meeting-2-2-2/2030-07-16/
LOCATION:City Hall\, 123 Main Avenue North\, Magee\, MS\, 39111\, United States
END:VEVENT
BEGIN:VEVENT
DTSTART;TZID=UTC:20300806T170000
DTEND;TZID=UTC:20300806T180000
DTSTAMP:20260422T205919
CREATED:20251121T230422Z
LAST-MODIFIED:20251121T230638Z
UID:10000963-1912266000-1912269600@www.cityofmagee.ms.gov
SUMMARY:Board of Aldermen meeting
DESCRIPTION:
URL:https://www.cityofmagee.ms.gov/event/board-of-aldermen-meeting-5/2030-08-06/
LOCATION:City Hall\, 123 Main Avenue North\, Magee\, MS\, 39111\, United States
END:VEVENT
BEGIN:VEVENT
DTSTART;TZID=UTC:20300820T170000
DTEND;TZID=UTC:20300820T180000
DTSTAMP:20260422T205919
CREATED:20251121T230815Z
LAST-MODIFIED:20251121T230815Z
UID:10001022-1913475600-1913479200@www.cityofmagee.ms.gov
SUMMARY:Board of Aldermen meeting
DESCRIPTION:
URL:https://www.cityofmagee.ms.gov/event/board-of-aldermen-meeting-2-2-2/2030-08-20/
LOCATION:City Hall\, 123 Main Avenue North\, Magee\, MS\, 39111\, United States
END:VEVENT
BEGIN:VEVENT
DTSTART;TZID=UTC:20300903T170000
DTEND;TZID=UTC:20300903T180000
DTSTAMP:20260422T205919
CREATED:20251121T230422Z
LAST-MODIFIED:20251121T230638Z
UID:10000964-1914685200-1914688800@www.cityofmagee.ms.gov
SUMMARY:Board of Aldermen meeting
DESCRIPTION:
URL:https://www.cityofmagee.ms.gov/event/board-of-aldermen-meeting-5/2030-09-03/
LOCATION:City Hall\, 123 Main Avenue North\, Magee\, MS\, 39111\, United States
END:VEVENT
BEGIN:VEVENT
DTSTART;TZID=UTC:20300917T170000
DTEND;TZID=UTC:20300917T180000
DTSTAMP:20260422T205919
CREATED:20251121T230815Z
LAST-MODIFIED:20251121T230815Z
UID:10001023-1915894800-1915898400@www.cityofmagee.ms.gov
SUMMARY:Board of Aldermen meeting
DESCRIPTION:
URL:https://www.cityofmagee.ms.gov/event/board-of-aldermen-meeting-2-2-2/2030-09-17/
LOCATION:City Hall\, 123 Main Avenue North\, Magee\, MS\, 39111\, United States
END:VEVENT
BEGIN:VEVENT
DTSTART;TZID=UTC:20301001T170000
DTEND;TZID=UTC:20301001T180000
DTSTAMP:20260422T205919
CREATED:20251121T230422Z
LAST-MODIFIED:20251121T230638Z
UID:10000965-1917104400-1917108000@www.cityofmagee.ms.gov
SUMMARY:Board of Aldermen meeting
DESCRIPTION:
URL:https://www.cityofmagee.ms.gov/event/board-of-aldermen-meeting-5/2030-10-01/
LOCATION:City Hall\, 123 Main Avenue North\, Magee\, MS\, 39111\, United States
END:VEVENT
BEGIN:VEVENT
DTSTART;TZID=UTC:20301015T170000
DTEND;TZID=UTC:20301015T180000
DTSTAMP:20260422T205919
CREATED:20251121T230815Z
LAST-MODIFIED:20251121T230815Z
UID:10001024-1918314000-1918317600@www.cityofmagee.ms.gov
SUMMARY:Board of Aldermen meeting
DESCRIPTION:
URL:https://www.cityofmagee.ms.gov/event/board-of-aldermen-meeting-2-2-2/2030-10-15/
LOCATION:City Hall\, 123 Main Avenue North\, Magee\, MS\, 39111\, United States
END:VEVENT
BEGIN:VEVENT
DTSTART;TZID=UTC:20301105T170000
DTEND;TZID=UTC:20301105T180000
DTSTAMP:20260422T205919
CREATED:20251121T230422Z
LAST-MODIFIED:20251121T230638Z
UID:10000966-1920128400-1920132000@www.cityofmagee.ms.gov
SUMMARY:Board of Aldermen meeting
DESCRIPTION:
URL:https://www.cityofmagee.ms.gov/event/board-of-aldermen-meeting-5/2030-11-05/
LOCATION:City Hall\, 123 Main Avenue North\, Magee\, MS\, 39111\, United States
END:VEVENT
BEGIN:VEVENT
DTSTART;TZID=UTC:20301119T170000
DTEND;TZID=UTC:20301119T180000
DTSTAMP:20260422T205919
CREATED:20251121T230815Z
LAST-MODIFIED:20251121T230815Z
UID:10001025-1921338000-1921341600@www.cityofmagee.ms.gov
SUMMARY:Board of Aldermen meeting
DESCRIPTION:
URL:https://www.cityofmagee.ms.gov/event/board-of-aldermen-meeting-2-2-2/2030-11-19/
LOCATION:City Hall\, 123 Main Avenue North\, Magee\, MS\, 39111\, United States
END:VEVENT
END:VCALENDAR