BEGIN:VCALENDAR
VERSION:2.0
PRODID:-//City of Magee - ECPv6.14.2//NONSGML v1.0//EN
CALSCALE:GREGORIAN
METHOD:PUBLISH
X-WR-CALNAME:City of Magee
X-ORIGINAL-URL:https://www.cityofmagee.ms.gov
X-WR-CALDESC:Events for City of Magee
REFRESH-INTERVAL;VALUE=DURATION:PT1H
X-Robots-Tag:noindex
X-PUBLISHED-TTL:PT1H
BEGIN:VTIMEZONE
TZID:UTC
BEGIN:STANDARD
TZOFFSETFROM:+0000
TZOFFSETTO:+0000
TZNAME:UTC
DTSTART:20240101T000000
END:STANDARD
END:VTIMEZONE
BEGIN:VEVENT
DTSTART;TZID=UTC:20240628T173000
DTEND;TZID=UTC:20240628T193000
DTSTAMP:20260426T003206
CREATED:20240528T145847Z
LAST-MODIFIED:20240528T150429Z
UID:10000603-1719595800-1719603000@www.cityofmagee.ms.gov
SUMMARY:Courthouse Lawn Dinner
DESCRIPTION:Join us for more Bicentennial celebrations on the lawn of the historic courthouse in Mendenhall\, MS.
URL:https://www.cityofmagee.ms.gov/event/courthouse-lawn-dinner/
LOCATION:Mendenhall Courthouse\, Main Street\, Mendenhall\, MS\, 39114\, United States
END:VEVENT
END:VCALENDAR