BEGIN:VCALENDAR
VERSION:2.0
PRODID:-//City of Magee - ECPv6.14.2//NONSGML v1.0//EN
CALSCALE:GREGORIAN
METHOD:PUBLISH
X-WR-CALNAME:City of Magee
X-ORIGINAL-URL:https://www.cityofmagee.ms.gov
X-WR-CALDESC:Events for City of Magee
REFRESH-INTERVAL;VALUE=DURATION:PT1H
X-Robots-Tag:noindex
X-PUBLISHED-TTL:PT1H
BEGIN:VTIMEZONE
TZID:UTC
BEGIN:STANDARD
TZOFFSETFROM:+0000
TZOFFSETTO:+0000
TZNAME:UTC
DTSTART:20240101T000000
END:STANDARD
END:VTIMEZONE
BEGIN:VEVENT
DTSTART;TZID=UTC:20240815T170000
DTEND;TZID=UTC:20240815T200000
DTSTAMP:20260425T191502
CREATED:20240715T214640Z
LAST-MODIFIED:20240715T214640Z
UID:10000614-1723741200-1723752000@www.cityofmagee.ms.gov
SUMMARY:Lawn Chair Luau
DESCRIPTION:The Lawn Chair Luau is sponsored by the Magee Chamber of Commerce and will be held on August 15\, 2024\, from 5 PM to 8 PM at Ural Everett Park on Main Street.
URL:https://www.cityofmagee.ms.gov/event/lawn-chair-luau/
LOCATION:Ural Everett Park\, Main Street\, MS\, 39111\, United States
ORGANIZER;CN="Magee Chamber of Commerce":MAILTO:commercechamber@bellsouth.net
END:VEVENT
END:VCALENDAR